BEGIN:VCALENDAR
VERSION:2.0
CALSCALE:GREGORIAN
METHOD:PUBLISH
PRODID://PLYC//1420814
BEGIN:VEVENT
DTSTAMP:20260424T072836
VTIMEZONE:America/New_York
DTSTART:20260514T170000Z
DTEND:20260514T190000Z
UID:1420814
SUMMARY:MSDC Fashion Show: Walk Into Tomorrow
LOCATION:Marshall-Starke Development Center , 1901 Pidco Drive , Plymouth, IN, 46563
DESCRIPTION:MSDC Fashion Show: Walk Into Tomorrow\n\n05/14/26 01:00 PM EST\n - 05/14/26 03:00 PM EST\Description:\nJoin Marshall-Starke Development Center for an inspiring afternoon at our MSDC Fashion Show.\n\nThis meaningful community event features individuals we support taking the runway to share a journey of confidence, courage, and self-expression. Through music, lighting, and storytelling, the show highlights a powerful transformation from uncertainty to empowerment.\n\nParticipants will be styled in clothing provided by local shops and businesses, bringing together fashion and community in a unique and impactful way.\n\nThis event is open to the public and welcomes families, community members, and visitors to experience an afternoon that celebrates inclusion, creativity, and connection.\n\nDate:\nMay 14, 2026\n\nTime:\n1:00 PM – 3:00 PM\n\nLocation:\n1901 PIDCO Drive\nPlymouth, IN\n\nWebsite Link:\nhttps://www.msdcin.org/communityevents/fashion-show\n\nFacebook Event Link:\nhttps://www.facebook.com/share/18X875jTrp/\n\Details:\nFree open to the public. \Location:\nMarshall-Starke Development Center \n1901 Pidco Drive \nPlymouth, IN 46563
X-ALT-DESC;FMTTYPE=text/html:MSDC Fashion Show: Walk Into Tomorrow<br /><br />05/14/26 01:00 PM EST - 05/14/26 03:00 PM EST<br />Description:<br /><p data-end="397" data-start="280">Join Marshall-Starke Development Center for an inspiring afternoon at our MSDC Fashion Show.</p>

<p data-end="666" data-start="399">This meaningful community event features individuals we support taking the runway to share a journey of confidence, courage, and self-expression. Through music, lighting, and storytelling, the show highlights a powerful transformation from uncertainty to empowerment.</p>

<p data-end="818" data-start="668">Participants will be styled in clothing provided by local shops and businesses, bringing together fashion and community in a unique and impactful way.</p>

<p data-end="989" data-start="820">This event is open to the public and welcomes families, community members, and visitors to experience an afternoon that celebrates inclusion, creativity, and connection.</p>

<p data-end="1022" data-start="996"><strong data-end="1005" data-start="996">Date:</strong><br data-end="1008" data-start="1005" />
May 14, 2026</p>

<p data-end="1055" data-start="1024"><strong data-end="1033" data-start="1024">Time:</strong><br data-end="1036" data-start="1033" />
1:00 PM &ndash; 3:00 PM</p>

<p data-end="1106" data-start="1057"><strong data-end="1070" data-start="1057">Location:</strong><br data-end="1073" data-start="1070" />
1901 PIDCO Drive<br data-end="1092" data-start="1089" />
Plymouth, IN</p>

<p data-end="1186" data-start="1113"><strong data-end="1130" data-start="1113">Website Link:</strong><br data-end="1133" data-start="1130" />
<a data-end="1184" data-start="1133" href="https://www.msdcin.org/communityevents/fashion-show" rel="noopener" target="_new">https://www.msdcin.org/communityevents/fashion-show</a></p>

<p data-end="1264" data-start="1193"><strong data-end="1217" data-start="1193">Facebook Event Link:</strong><br data-end="1220" data-start="1217" />
<a data-end="1262" data-start="1220" href="https://www.facebook.com/share/18X875jTrp/" rel="noopener" target="_new">https://www.facebook.com/share/18X875jTrp/</a></p>
<br />Details:<br />Free open to the public.&nbsp;<br />Location:<br />Marshall-Starke Development Center <br />1901 Pidco Drive <br />Plymouth, IN 46563
PRIORITY:3
TRANSP:TRANSPARENT
BEGIN:VALARM
TRIGGER:-PT5M
ACTION:DISPLAY
DESCRIPTION:Reminder
END:VALARM
END:VEVENT
END:VCALENDAR
