BEGIN:VCALENDAR
VERSION:2.0
CALSCALE:GREGORIAN
METHOD:PUBLISH
PRODID://JCOC//1420847
BEGIN:VEVENT
DTSTAMP:20260424T110617
VTIMEZONE:America/Chicago
DTSTART:20260326T223000Z
DTEND:20260327T020000Z
UID:1420847
SUMMARY:Chamber Gala
LOCATION:River Spirit Casino Resort, 8330 Riverside Pkwy, Tulsa, OK, 74137
DESCRIPTION:Chamber Gala\n\n03/26/26 05:30 PM CST\n - 03/26/26 09:00 PM CST\Description:\nPresented by River Spirit Casino Resort\nHosted by Jenks Riverwalk\n\nCelebrate 60 years of the Jenks Chamber of Commerce with an unforgettable evening inspired by the elegance of 1966—the year our Chamber was founded and the same year as Truman Capote’s legendary “Party of the Century black & white ball. This milestone event will be a true who’s who of the Chamber, honoring achievements with awards and recognitions, reflecting on our past, and looking ahead to the next 60 years of growth and innovation.\n\nGuests are invited to dress with a nod to the elegance of the 1960s—whether classic cocktail, evening formal, or vintage-inspired.\n\nOklahoma Aquarium Happy Hour begins at 5:30PM\nProgram begins at 6:45PM \n\nThank you to our additional sponsors: BancFirst, Woodland West Animal Hospital / Pet Resort, Oklahoma Central Credit Union, Patisserie by Shiela Anne, Tulsa Tech,  Nabholz Construction Corporation, L.D. Kerns Contractors, Cyntergy Architecture & Engineering, Tedford Insurance, Hargrove-Marker Funeral & Cremation Service, Mike Lay Family Foundation, Mi Tierra Cocina Mexicana, American Waste Control, Bank of Oklahoma, and Mariner.  \n\n\nClick to View: Liability Waiver\nClick to View: Weather and Cancellation Policy\n\n \n\n \n\Location:\nRiver Spirit Casino Resort\n8330 Riverside Pkwy\nTulsa, OK 74137
X-ALT-DESC;FMTTYPE=text/html:Chamber Gala<br /><br />03/26/26 05:30 PM CST - 03/26/26 09:00 PM CST<br />Description:<br /><p data-end="549" data-start="72"><strong>Presented by River Spirit Casino Resort<br />
Hosted by Jenks Riverwalk</strong><br />
<br />
Celebrate 60 years of the Jenks Chamber of Commerce with an unforgettable evening inspired by the elegance of 1966&mdash;the year our Chamber was founded and the same year as Truman Capote&rsquo;s legendary &ldquo;Party of the Century black &amp; white ball.&nbsp;This milestone event will be a true&nbsp;<em data-end="390" data-start="379">who&rsquo;s who</em>&nbsp;of the Chamber, honoring achievements with awards and recognitions, reflecting on our past, and looking ahead to the next 60 years of growth and innovation.</p>

<p data-end="796" data-start="551">Guests are invited to dress with a nod to the elegance of the 1960s&mdash;whether classic cocktail, evening formal, or vintage-inspired.<br />
<br />
Oklahoma Aquarium Happy Hour&nbsp;begins at 5:30PM<br />
Program begins at 6:45PM&nbsp;<br />
<br />
Thank you to our additional sponsors: BancFirst, Woodland West Animal Hospital / Pet Resort, Oklahoma Central Credit Union, Patisserie by Shiela Anne, Tulsa Tech,&nbsp;&nbsp;Nabholz Construction Corporation,&nbsp;L.D. Kerns Contractors, Cyntergy&nbsp;Architecture &amp; Engineering, Tedford Insurance, Hargrove-Marker Funeral &amp; Cremation Service, Mike Lay Family Foundation, Mi Tierra Cocina Mexicana, American Waste Control,&nbsp;Bank of Oklahoma, and Mariner.&nbsp;&nbsp;</p>

<p data-end="796" data-start="551"><br />
<strong>Click to View:&nbsp;<a href="https://www.dropbox.com/scl/fi/xh0okrwobjv6y4if070ca/jenks-chamber-of-commerce-liability-waiver.pdf?rlkey=wj6uvimc4q2zlk53to4b1rgxe&amp;st=72p7pdtm&amp;dl=0">Liability Waiver</a><br />
Click to View:&nbsp;<a href="https://www.dropbox.com/scl/fi/g1rvpfaurdpxkz2bfmfqa/Jenks-Chamber-of-Commerce-Weather-and-Cancellation-Policy.pdf?rlkey=aui790nq5f37yexdychk7mhw3&amp;st=vcq00763&amp;dl=0">Weather and Cancellation Policy</a></strong></p>

<p data-end="796" data-start="551">&nbsp;</p>

<p data-end="796" data-start="551">&nbsp;</p>
<br />Location:<br />River Spirit Casino Resort<br />8330 Riverside Pkwy<br />Tulsa, OK 74137
PRIORITY:3
TRANSP:TRANSPARENT
BEGIN:VALARM
TRIGGER:-PT5M
ACTION:DISPLAY
DESCRIPTION:Reminder
END:VALARM
END:VEVENT
END:VCALENDAR
