BEGIN:VCALENDAR
VERSION:2.0
CALSCALE:GREGORIAN
METHOD:PUBLISH
PRODID://JCOC//1421242
BEGIN:VEVENT
DTSTAMP:20260424T094711
VTIMEZONE:America/Chicago
DTSTART:20260424T170000Z
DTEND:20260424T180000Z
UID:1421242
SUMMARY:Legislative Lunch April 2026
LOCATION:Jenks Chamber Office, 161 S Riverfront Dr, Jenks, OK, 74037
DESCRIPTION:Legislative Lunch April 2026\n\n04/24/26 12:00 PM CST\n - 04/24/26 01:00 PM CST\Description:\n\nJoin us for our Legislative Luncheon on Friday, April 24th!\n\nThis program will highlight key developments at the State Capitol that impact our community and local businesses. Hear directly from area lawmakers, engage in meaningful conversations, and connect with the leaders helping shape the future of our region.\n\nLegislative Luncheons provide a valuable opportunity to stay informed, engage with elected officials, and strengthen relationships across our business and government communities.\n\nPlease note our new location: our Chamber office, 161 S Riverfront Dr, Suite 112 in Jenks.\n\nThank you to our sponsors Oklahoma Natural Gas, Tulsa Tech, Public Service Company of Oklahoma, and Greater Tulsa Association of Realtors.\n\n\n \Location:\nJenks Chamber Office\n161 S Riverfront Dr\nJenks, OK 74037
X-ALT-DESC;FMTTYPE=text/html:Legislative Lunch April 2026<br /><br />04/24/26 12:00 PM CST - 04/24/26 01:00 PM CST<br />Description:<br /><section data-scroll-anchor="true" data-testid="conversation-turn-8" data-turn="assistant" data-turn-id="request-WEB:08ece748-6d84-462a-89ba-423cd6a79207-3" dir="auto">
<p data-end="59" data-start="0">Join us for our Legislative Luncheon on Friday, April 24th!</p>

<p data-end="314" data-start="61">This program will highlight key developments at the State Capitol that impact our community and local businesses. Hear directly from area lawmakers, engage in meaningful conversations, and connect with the leaders helping shape the future of our region.</p>

<p data-end="494" data-start="316">Legislative Luncheons provide a valuable opportunity to stay informed, engage with elected officials, and strengthen relationships across our business and government communities.</p>

<p data-end="586" data-start="496">Please note our new location: our Chamber office, 161 S Riverfront Dr, Suite 112 in Jenks.</p>

<p data-end="726" data-is-last-node="" data-is-only-node="" data-start="588">Thank you to our sponsors Oklahoma Natural Gas, Tulsa Tech, Public Service Company of Oklahoma, and Greater Tulsa Association of Realtors.</p>
</section>
<br />
&nbsp;<br />Location:<br />Jenks Chamber Office<br />161 S Riverfront Dr<br />Jenks, OK 74037
PRIORITY:3
TRANSP:TRANSPARENT
BEGIN:VALARM
TRIGGER:-PT5M
ACTION:DISPLAY
DESCRIPTION:Reminder
END:VALARM
END:VEVENT
END:VCALENDAR
