BEGIN:VCALENDAR
VERSION:2.0
CALSCALE:GREGORIAN
METHOD:PUBLISH
PRODID://JCOC//1421262
BEGIN:VEVENT
DTSTAMP:20260424T110232
VTIMEZONE:America/Chicago
DTSTART:20260328T160000Z
DTEND:20260328T170000Z
UID:1421262
SUMMARY:Jenks America Museum and Historical Society Plaque Dedication
LOCATION:3rd and Main, Jenks, OK, 74037
DESCRIPTION:Jenks America Museum and Historical Society Plaque Dedication\n\n03/28/26 11:00 AM CST\n - 03/28/26 12:00 PM CST\Description:\nJenks America Museum & Historical Society invites you to the Jenks School Corner Post Ceremony and Ribbon Cutting\Location:\n3rd and Main\n\nJenks, OK 74037
X-ALT-DESC;FMTTYPE=text/html:Jenks America Museum and Historical Society Plaque Dedication<br /><br />03/28/26 11:00 AM CST - 03/28/26 12:00 PM CST<br />Description:<br />Jenks America Museum &amp; Historical Society invites you to the Jenks School Corner Post Ceremony and Ribbon Cutting<br />Location:<br />3rd and Main<br /><br />Jenks, OK 74037
PRIORITY:3
TRANSP:TRANSPARENT
BEGIN:VALARM
TRIGGER:-PT5M
ACTION:DISPLAY
DESCRIPTION:Reminder
END:VALARM
END:VEVENT
END:VCALENDAR
