BEGIN:VCALENDAR
VERSION:2.0
CALSCALE:GREGORIAN
METHOD:PUBLISH
PRODID://CCCC//1421465
BEGIN:VEVENT
DTSTAMP:20260424T084235
VTIMEZONE:America/Los_Angeles
DTSTART:20260326T010000Z
DTEND:20260326T020000Z
UID:1421465
SUMMARY:Mix & Mingle - Learning to Improve your Physical and Tax Wellbeing
LOCATION:High Noon Guns & Ammo, 321 5th Street, Arbuckle, CA, 95912
DESCRIPTION:Mix & Mingle - Learning to Improve your Physical and Tax Wellbeing\n\n03/25/26 06:00 PM PST\n - 03/25/26 07:00 PM PST\Description:\nJoin us for an evening at High Noon Guns and Ammo in Arbuckle hosted by Diana and Lacey from Arbonne. Angelica with Atlas CPAs and Advisors will be here to answer any questions you may have regarding taxes!\Details:\nJoin us for an evening at High Noon Guns and Ammo in Arbuckle hosted by Diana and Lacey from Arbonne. Angelica with Atlas CPAs and Advisors will be here to answer any questions you may have regarding taxes!\Location:\nHigh Noon Guns & Ammo\n321 5th Street\nArbuckle, CA 95912
X-ALT-DESC;FMTTYPE=text/html:Mix & Mingle - Learning to Improve your Physical and Tax Wellbeing<br /><br />03/25/26 06:00 PM PST - 03/25/26 07:00 PM PST<br />Description:<br />Join us for an evening at High Noon Guns and Ammo in Arbuckle hosted by Diana and Lacey from Arbonne. Angelica with Atlas CPAs and Advisors will be here to answer any questions you may have regarding taxes!<br />Details:<br />Join us for an evening at High Noon Guns and Ammo in Arbuckle hosted by Diana and Lacey from&nbsp;Arbonne. Angelica with Atlas CPAs and Advisors will be here to answer any questions you may have regarding taxes!<br />Location:<br />High Noon Guns & Ammo<br />321 5th Street<br />Arbuckle, CA 95912
PRIORITY:3
TRANSP:TRANSPARENT
BEGIN:VALARM
TRIGGER:-PT5M
ACTION:DISPLAY
DESCRIPTION:Reminder
END:VALARM
END:VEVENT
END:VCALENDAR
