BEGIN:VCALENDAR
VERSION:2.0
CALSCALE:GREGORIAN
METHOD:PUBLISH
PRODID://CCOR//1421563
BEGIN:VEVENT
DTSTAMP:20260424T094656
VTIMEZONE:America/Chicago
DTSTART:20260417T163000Z
DTEND:20260417T180000Z
UID:1421563
SUMMARY:Women's Business Group
LOCATION:Timothy's The Restaurant, 12710 Olive Blvd., Creve Coeur, MO, 63141
DESCRIPTION:Women's Business Group\n\n04/17/26 11:30 AM CST\n - 04/17/26 01:00 PM CST\Description:\nWomen's Business Group\nApril 17th, 2026\n11:30 a.m. - 1:00 p.m.\nLocation: Timothy's The Restaurant\n12710 Olive Blvd.\nSponsor Welcome\nThis is a group designed to help business women connect, grow, and network in a supportive environment.\nEveryone pays for their own lunch. Sponsorships are available.\n For questions email:\nDerlene Hirtz at derlene@youempoweredservices.com\nBethany Schell at bethany.schell@edwardjones.com\Location:\nTimothy's The Restaurant\n12710 Olive Blvd.\nCreve Coeur, MO 63141
X-ALT-DESC;FMTTYPE=text/html:Women's Business Group<br /><br />04/17/26 11:30 AM CST - 04/17/26 01:00 PM CST<br />Description:<br /><div style="text-align: center;"><span style="font-size:16px"><strong>Women's Business Group</strong><br />
<strong>April 17th, 2026<br />
11:30 a.m. - </strong></span><span style="font-size:16px"><strong>1:00 p.m.</strong></span><br />
<span style="font-size:18px">Location: Timothy's The Restaurant</span><br />
<span style="font-size:16px">12710 Olive Blvd.</span><br />
<strong><span style="font-size:16px"><span style="color:#FF0000">Sponsor Welcome</span></span></strong><br />
This is a group designed to help business women connect, grow, and network in a supportive environment.<br />
Everyone pays for their own lunch. Sponsorships are available.</div>
&nbsp;For questions email:<br />
Derlene Hirtz at&nbsp;<a href="mailto:derlene@youempoweredservices.com?subject=Business%20Women%27s%20Group">derlene@youempoweredservices.com</a><br />
Bethany Schell at&nbsp;<a href="mailto:bethany.schell@edwardjones.com?subject=Business%20Women%27s%20Group">bethany.schell@edwardjones.com</a><br />Location:<br />Timothy's The Restaurant<br />12710 Olive Blvd.<br />Creve Coeur, MO 63141
PRIORITY:3
TRANSP:TRANSPARENT
BEGIN:VALARM
TRIGGER:-PT5M
ACTION:DISPLAY
DESCRIPTION:Reminder
END:VALARM
END:VEVENT
END:VCALENDAR
