BEGIN:VCALENDAR
VERSION:2.0
CALSCALE:GREGORIAN
METHOD:PUBLISH
PRODID://CCCC//1421619
BEGIN:VEVENT
DTSTAMP:20260424T084353
VTIMEZONE:America/Los_Angeles
DTSTART:20260328T140000Z
DTEND:20260328T190000Z
UID:1421619
SUMMARY:Kittle's Cast and Blast
LOCATION:Kittle's Outdoor & Sport Co., 888 Market Street, Colusa, CA, 95932
DESCRIPTION:Kittle's Cast and Blast\n\n03/28/26 07:00 AM PST\n - 03/28/26 12:00 PM PST\Description:\nCheck out Kittle's THIS SATURDAY, March 28th for some great deals and special door prizes EVERY HOUR! 25% of the day's profits will go to the Colusa Ducks!\Details:\nCheck out Kittle's THIS SATURDAY, March 28th for some great deals and special door prizes EVERY HOUR! 25% of the day's profits will go to the Colusa Ducks!\Location:\nKittle's Outdoor & Sport Co.\n888 Market Street\nColusa, CA 95932
X-ALT-DESC;FMTTYPE=text/html:Kittle's Cast and Blast<br /><br />03/28/26 07:00 AM PST - 03/28/26 12:00 PM PST<br />Description:<br />Check out Kittle's THIS SATURDAY, March 28th for some great deals and special door prizes EVERY HOUR! 25% of the day's profits will go to the Colusa Ducks!<br />Details:<br />Check out Kittle's THIS SATURDAY, March 28th for some great deals and special door prizes&nbsp;EVERY HOUR! 25% of the day's profits will go to the Colusa Ducks!<br />Location:<br />Kittle's Outdoor & Sport Co.<br />888 Market Street<br />Colusa, CA 95932
PRIORITY:3
TRANSP:TRANSPARENT
BEGIN:VALARM
TRIGGER:-PT5M
ACTION:DISPLAY
DESCRIPTION:Reminder
END:VALARM
END:VEVENT
END:VCALENDAR
