BEGIN:VCALENDAR
VERSION:2.0
CALSCALE:GREGORIAN
METHOD:PUBLISH
PRODID://LASS//1421621
BEGIN:VEVENT
DTSTAMP:20260424T085848
VTIMEZONE:America/Los_Angeles
DTSTART:20260404T160000Z
DTEND:20260404T170000Z
UID:1421621
SUMMARY:SusanvilleStuff Annual Community Easter Egg Hunt
LOCATION:
DESCRIPTION:SusanvilleStuff Annual Community Easter Egg Hunt\n\n04/04/26 09:00 AM PST\n - 04/04/26 10:00 AM PST
X-ALT-DESC;FMTTYPE=text/html:SusanvilleStuff Annual Community Easter Egg Hunt<br /><br />04/04/26 09:00 AM PST - 04/04/26 10:00 AM PST
PRIORITY:3
TRANSP:TRANSPARENT
BEGIN:VALARM
TRIGGER:-PT5M
ACTION:DISPLAY
DESCRIPTION:Reminder
END:VALARM
END:VEVENT
END:VCALENDAR
