BEGIN:VCALENDAR
VERSION:2.0
CALSCALE:GREGORIAN
METHOD:PUBLISH
PRODID://LASS//1421627
BEGIN:VEVENT
DTSTAMP:20260424T085847
VTIMEZONE:America/Los_Angeles
DTSTART:20260411T170000Z
DTEND:20260411T210000Z
UID:1421627
SUMMARY:Lassen Family Services Walk-A-Mile
LOCATION:
DESCRIPTION:Lassen Family Services Walk-A-Mile\n\n04/11/26 10:00 AM PST\n - 04/11/26 02:00 PM PST
X-ALT-DESC;FMTTYPE=text/html:Lassen Family Services Walk-A-Mile<br /><br />04/11/26 10:00 AM PST - 04/11/26 02:00 PM PST
PRIORITY:3
TRANSP:TRANSPARENT
BEGIN:VALARM
TRIGGER:-PT5M
ACTION:DISPLAY
DESCRIPTION:Reminder
END:VALARM
END:VEVENT
END:VCALENDAR
