BEGIN:VCALENDAR
VERSION:2.0
CALSCALE:GREGORIAN
METHOD:PUBLISH
PRODID://LASS//1421628
BEGIN:VEVENT
DTSTAMP:20260424T075018
VTIMEZONE:America/Los_Angeles
DTSTART:20260425T150000Z
DTEND:20260426T010000Z
UID:1421628
SUMMARY:Soaring Eagle Blue Star Moms and Country Pines Quilt Shop: Quilters Wanted
LOCATION:
DESCRIPTION:Soaring Eagle Blue Star Moms and Country Pines Quilt Shop: Quilters Wanted\n\n04/25/26 08:00 AM PST\n - 04/25/26 06:00 PM PST
X-ALT-DESC;FMTTYPE=text/html:Soaring Eagle Blue Star Moms and Country Pines Quilt Shop: Quilters Wanted<br /><br />04/25/26 08:00 AM PST - 04/25/26 06:00 PM PST
PRIORITY:3
TRANSP:TRANSPARENT
BEGIN:VALARM
TRIGGER:-PT5M
ACTION:DISPLAY
DESCRIPTION:Reminder
END:VALARM
END:VEVENT
END:VCALENDAR
