BEGIN:VCALENDAR
VERSION:2.0
CALSCALE:GREGORIAN
METHOD:PUBLISH
PRODID://CCCC//1421654
BEGIN:VEVENT
DTSTAMP:20260424T084354
VTIMEZONE:America/Los_Angeles
DTSTART:20260328T210000Z
DTEND:20260328T230000Z
UID:1421654
SUMMARY:Musician's Recital
LOCATION:Sacramento Valley Museum, 1491 E Street, Williams, CA, 95987
DESCRIPTION:Musician's Recital\n\n03/28/26 02:00 PM PST\n - 03/28/26 04:00 PM PST\Description:\nPerformers of all ages and abilities are welcome!\n\nA piano is furnished but all other instruments need to be brought.\Details:\nPerformers of all ages and abilities are welcome!\n\nA piano is furnished but all other instruments need to be brought.\Location:\nSacramento Valley Museum\n1491 E Street\nWilliams, CA 95987
X-ALT-DESC;FMTTYPE=text/html:Musician's Recital<br /><br />03/28/26 02:00 PM PST - 03/28/26 04:00 PM PST<br />Description:<br />Performers of all ages and abilities are welcome!<br />
<br />
A piano is furnished but all other instruments need to be brought.<br />Details:<br />Performers of all ages and abilities are welcome!<br />
<br />
A piano is furnished but all other instruments need to be brought.<br />Location:<br />Sacramento Valley Museum<br />1491 E Street<br />Williams, CA 95987
PRIORITY:3
TRANSP:TRANSPARENT
BEGIN:VALARM
TRIGGER:-PT5M
ACTION:DISPLAY
DESCRIPTION:Reminder
END:VALARM
END:VEVENT
END:VCALENDAR
