BEGIN:VCALENDAR
VERSION:2.0
CALSCALE:GREGORIAN
METHOD:PUBLISH
PRODID://CCOR//1421925
BEGIN:VEVENT
DTSTAMP:20260424T094657
VTIMEZONE:America/Chicago
DTSTART:20260416T161500Z
DTEND:20260416T180000Z
UID:1421925
SUMMARY:April 2026 Membership Luncheon
LOCATION:Orlando's Event Center, 2050 Dorsett Village, Maryland Heights, MO, 63043
DESCRIPTION:April 2026 Membership Luncheon\n\n04/16/26 11:15 AM CST\n - 04/16/26 01:00 PM CST\Description:\nApril 2026 Membership Networking Luncheon\nLast Day to Register is April 13th\nSponsored by:  Volpe Consulting\nat Orlando's Event Center\nJoin us for our Membership Luncheon \n\nNo Refunds for Cancellations after 12:00 p.m. on Monday week of Luncheon\n\Location:\nOrlando's Event Center\n2050 Dorsett Village\nMaryland Heights, MO 63043
X-ALT-DESC;FMTTYPE=text/html:April 2026 Membership Luncheon<br /><br />04/16/26 11:15 AM CST - 04/16/26 01:00 PM CST<br />Description:<br /><div style="text-align: center;"><strong><span style="font-size:20px">April 2026&nbsp;Membership Networking Luncheon</span><br />
<span style="color:#FF0000"><span style="font-size:16px">Last Day to Register is April 13th</span></span><br />
<span style="font-size:16px">Sponsored by:&nbsp; Volpe Consulting</span></strong><br />
<span style="font-size:16px">at Orlando's Event Center</span><br />
<span style="font-size:16px">Join us for our Membership Luncheon&nbsp;</span><br />
<br />
No Refunds for Cancellations after&nbsp;12:00 p.m.&nbsp;on Monday week of Luncheon</div>
<br />Location:<br />Orlando's Event Center<br />2050 Dorsett Village<br />Maryland Heights, MO 63043
PRIORITY:3
TRANSP:TRANSPARENT
BEGIN:VALARM
TRIGGER:-PT5M
ACTION:DISPLAY
DESCRIPTION:Reminder
END:VALARM
END:VEVENT
END:VCALENDAR
