BEGIN:VCALENDAR
VERSION:2.0
CALSCALE:GREGORIAN
METHOD:PUBLISH
PRODID://JCOC//1421992
BEGIN:VEVENT
DTSTAMP:20260424T110155
VTIMEZONE:America/Chicago
DTSTART:20260328T120000Z
DTEND:20260329T030000Z
UID:1421992
SUMMARY:Discover Jenks Strawberry Stroll
LOCATION:
DESCRIPTION:Discover Jenks Strawberry Stroll\n\n03/28/26 07:00 AM CST\n - 03/28/26 10:00 PM CST\Description:\nðŸ“ Discover Jenks Strawberry Stroll -- Saturday, March 28 ðŸ“\n \nIn celebration of the Spring Fling with Strawberry Shortcake at Tulsa Premium Outlets, Discover Jenks invites visitors to come early and stay late to enjoy delicious strawberry fare at several of our incredible Jenks Main Street merchant locations! \n \n\n	ðŸ“Patisserie by Sheila Anne: 610 W Main St (7:00a - 6:00p)\n	\n		serving strawberry croissants\n	\n	\n	ðŸ“Bridges Mercantile: 108 E Main St (10:00a - 5:00p)\n	\n		serving strawberry popcorn\n	\n	\n	ðŸ“Kitch / Cookiedoodle:  381 E Main St (1:00p - 3:00p)\n	\n		serving strawberry salad, strawberry cake, and strawberry lemonade\n	\n	\n	ðŸ“City Hall Steak & Cocktails: 123 E Main St (4:00p - 10:00p)\n	\n		Strawberry ice cream cake (serves ~6) $25\n		Cocktail: Positano. Limoncello, strawberry, lemon, madeira $11\n		Mocktail: Dreamsicle. Strawberry, orange, lemon, vanilla, soda $8\n	\n	\n\n
X-ALT-DESC;FMTTYPE=text/html:Discover Jenks Strawberry Stroll<br /><br />03/28/26 07:00 AM CST - 03/28/26 10:00 PM CST<br />Description:<br /><div style="text-align: center;"><strong data-olk-copy-source="MessageBody">ðŸ“ Discover Jenks Strawberry Stroll -- Saturday, March 28&nbsp;ðŸ“</strong><br />
&nbsp;</div>
In celebration of the <strong>Spring Fling with Strawberry Shortcake</strong> at Tulsa Premium Outlets, Discover Jenks invites visitors to come early and stay late to enjoy delicious strawberry fare at several of our incredible Jenks&nbsp;Main Street merchant locations!&nbsp;<br />
&nbsp;
<ul>
	<li>ðŸ“Patisserie by Sheila Anne: 610 W Main St (7:00a - 6:00p)
	<ul>
		<li>serving strawberry croissants</li>
	</ul>
	</li>
	<li>ðŸ“Bridges Mercantile: 108 E Main St (10:00a - 5:00p)
	<ul>
		<li>serving strawberry popcorn</li>
	</ul>
	</li>
	<li>ðŸ“Kitch / Cookiedoodle:&nbsp; 381 E Main St (1:00p - 3:00p)
	<ul>
		<li>serving strawberry salad, strawberry cake, and strawberry lemonade</li>
	</ul>
	</li>
	<li>ðŸ“City Hall Steak &amp; Cocktails: 123 E Main St (4:00p - 10:00p)
	<ul>
		<li>Strawberry ice cream cake (serves ~6) $25</li>
		<li>Cocktail: Positano. Limoncello, strawberry, lemon, madeira $11</li>
		<li>Mocktail: Dreamsicle. Strawberry, orange, lemon, vanilla, soda $8</li>
	</ul>
	</li>
</ul>

PRIORITY:3
TRANSP:TRANSPARENT
BEGIN:VALARM
TRIGGER:-PT5M
ACTION:DISPLAY
DESCRIPTION:Reminder
END:VALARM
END:VEVENT
END:VCALENDAR
