BEGIN:VCALENDAR
VERSION:2.0
CALSCALE:GREGORIAN
METHOD:PUBLISH
PRODID://CCOR//1422024
BEGIN:VEVENT
DTSTAMP:20260424T094137
VTIMEZONE:America/Chicago
DTSTART:20260401T190000Z
DTEND:20260401T220000Z
UID:1422024
SUMMARY:J.F.Rey + eyewearhaus POP-UP Event
LOCATION:eyewearhaus, 745 N New Ballas Rd, Creve Coeur, MO, 63141
DESCRIPTION:J.F.Rey + eyewearhaus POP-UP Event\n\n04/01/26 02:00 PM CST\n - 04/01/26 05:00 PM CST\Description:\nJoin us in celebrating exceptional eyewear craftsmanship\n\nJ.F.Rey + eyewearhaus Pop-Up\nApril 1st @ 2PM - 5PM\n\nFLYER\nExplore the full J.F.Rey collection with visiting rep Jake, enjoy light snacks, and try on something unexpected. Plus, enter for a chance to win a J.F.Rey frame (prescription lenses not included)\Location:\neyewearhaus\n745 N New Ballas Rd\nCreve Coeur, MO 63141
X-ALT-DESC;FMTTYPE=text/html:J.F.Rey + eyewearhaus POP-UP Event<br /><br />04/01/26 02:00 PM CST - 04/01/26 05:00 PM CST<br />Description:<br /><div style="text-align: center;"><strong>Join us in celebrating exceptional eyewear craftsmanship</strong></div>

<h2 style="text-align: center;"><strong>J.F.Rey + eyewearhaus Pop-Up<br />
April 1st @ 2PM - 5PM</strong></h2>

<div style="text-align: center;"><span style="font-size:16px"><strong><a href="https://mms.ccochamber.com/ccochamber/docs/J.F.ReyPopUpFlyer8.5_x_11_in.pdf">FLYER</a></strong></span></div>
Explore the full J.F.Rey collection with visiting rep Jake, enjoy light snacks, and try on something unexpected. Plus, enter for a chance to win a J.F.Rey frame (prescription lenses not included)<br />Location:<br />eyewearhaus<br />745 N New Ballas Rd<br />Creve Coeur, MO 63141
PRIORITY:3
TRANSP:TRANSPARENT
BEGIN:VALARM
TRIGGER:-PT5M
ACTION:DISPLAY
DESCRIPTION:Reminder
END:VALARM
END:VEVENT
END:VCALENDAR
