BEGIN:VCALENDAR
VERSION:2.0
CALSCALE:GREGORIAN
METHOD:PUBLISH
PRODID://RRCC//1422046
BEGIN:VEVENT
DTSTAMP:20260420T020247
VTIMEZONE:America/Chicago
DTSTART:20260418T120000Z
DTEND:20260418T190000Z
UID:1422046
SUMMARY:Hometown Bass Tournament
LOCATION:, TX
DESCRIPTION:Hometown Bass Tournament\n\n04/18/26 07:00 AM CST\n - 04/18/26 02:00 PM CST\Description:\nHometown Hardware presents the 3rd Annual Hometown Bass Tournament on Saturday, April 18, 2026, from 7:00 a.m. to 2:00 p.m. with Check-In and Weigh-In at Langford Lake, north of Clarksville, Texas, on SH 37 at Ray's Way.  No age restrictions!\n\nThe Entry Fee is $50.00.  No age restrictions.  1st Place - $500.00, 2nd Place - $250.00 and 3rd Place - $100.00.\n\n For more information contact Hometown Hardware at 903-427-3808.  Go by Hometown Hardware to register for the fishing tournament.
X-ALT-DESC;FMTTYPE=text/html:Hometown Bass Tournament<br /><br />04/18/26 07:00 AM CST - 04/18/26 02:00 PM CST<br />Description:<br />Hometown Hardware presents the 3rd Annual&nbsp;Hometown Bass Tournament on Saturday,&nbsp;April 18, 2026, from 7:00 a.m. to 2:00 p.m. with Check-In and Weigh-In at Langford Lake, north of Clarksville, Texas, on SH 37 at Ray's Way.&nbsp; No age restrictions!<br />
<br />
The Entry Fee is $50.00.&nbsp; No age restrictions.&nbsp; 1st Place - $500.00, 2nd Place - $250.00 and 3rd Place - $100.00.<br />
<br />
&nbsp;For more information contact Hometown Hardware at 903-427-3808.&nbsp; Go by Hometown&nbsp;Hardware to register for the fishing tournament.
PRIORITY:3
TRANSP:TRANSPARENT
BEGIN:VALARM
TRIGGER:-PT5M
ACTION:DISPLAY
DESCRIPTION:Reminder
END:VALARM
END:VEVENT
END:VCALENDAR
