BEGIN:VCALENDAR
VERSION:2.0
CALSCALE:GREGORIAN
METHOD:PUBLISH
PRODID://CCOR//1422323
BEGIN:VEVENT
DTSTAMP:20260424T094137
VTIMEZONE:America/Chicago
DTSTART:20260425T230000Z
DTEND:20260426T030000Z
UID:1422323
SUMMARY:Raising Saints Benefit Dinner
LOCATION:Hilton Frontenac , 1335 S Lindbergh Blvd. , Saint Louis, MO, 63131
DESCRIPTION:Raising Saints Benefit Dinner\n\n04/25/26 06:00 PM CST\n - 04/25/26 10:00 PM CST\Description:\nOur Raising Saints Benefit Dinner is April 25, 2026 at the Hilton Frontenac and we would greatly enjoy celebrating our historic 15th year with you.\n\nThe link below allows you to purchase tickets, bid on our silent auction items, and advertise your business as one of our sponsors.\n\nWe are deeply grateful for your participation! \n\n\n \Details:\nClayton Ballroom\nHilton Frontenac\n1335 S. Lindbergh Blvd.\nSt. Louis, MO, 63131\n6pm Cocktail Hour\n7pm - 10pm Dinner, raffle, celebration\nContact Daniel Leonardi with any questions  \ndan.leonardi@saintaustinschool.org\Location:\nHilton Frontenac \n1335 S Lindbergh Blvd. \nSaint Louis, MO 63131
X-ALT-DESC;FMTTYPE=text/html:Raising Saints Benefit Dinner<br /><br />04/25/26 06:00 PM CST - 04/25/26 10:00 PM CST<br />Description:<br />Our Raising Saints Benefit Dinner is April 25, 2026 at the Hilton Frontenac and we would greatly enjoy celebrating our historic 15th year with you.<br />
<br />
The link below allows you to purchase tickets, bid on our silent auction items, and advertise your business as one of our sponsors.<br />
<br />
We are deeply grateful for your participation!&nbsp;<br />
<br />
<br />
&nbsp;<br />Details:<br />Clayton Ballroom<br />
Hilton Frontenac<br />
1335 S. Lindbergh Blvd.<br />
St. Louis, MO, 63131<br />
6pm Cocktail Hour<br />
7pm - 10pm Dinner, raffle, celebration<br />
Contact Daniel Leonardi with any questions&nbsp;&nbsp;<br />
dan.leonardi@saintaustinschool.org<br />Location:<br />Hilton Frontenac <br />1335 S Lindbergh Blvd. <br />Saint Louis, MO 63131
PRIORITY:3
TRANSP:TRANSPARENT
BEGIN:VALARM
TRIGGER:-PT5M
ACTION:DISPLAY
DESCRIPTION:Reminder
END:VALARM
END:VEVENT
END:VCALENDAR
