BEGIN:VCALENDAR
VERSION:2.0
CALSCALE:GREGORIAN
METHOD:PUBLISH
PRODID://LASS//1422446
BEGIN:VEVENT
DTSTAMP:20260424T074422
VTIMEZONE:America/Los_Angeles
DTSTART:20260501T170000Z
DTEND:20260502T220000Z
UID:1422446
SUMMARY:Monticola Spring Yard Sale
LOCATION:Monticola Club House, 140 S. Lassen Street, Susanville, CA, 96114
DESCRIPTION:Monticola Spring Yard Sale\n\n05/01/26 10:00 AM PST\n - 05/02/26 03:00 PM PST\Description:\nMonticola Spring Yard Sale and gift basket drawing.\Details:\nMonticola Spring Yard Sale;      Friday, May 1 from 10am - 4pm\n                                                  Saturday, May 2 from 9am - 3pm\nA few new and many gently used items for sale.\nDrop off donations Tuesday, Wednesday, Thursday, April 28, 29, & 30 from noon - 2pm.  No clothes, shoes or furniture please.\n\nThere will also be a drawing for a gift basket.  Drawing will take place at closing on Saturday, and you do not need to be present to win.\Location:\nMonticola Club House\n140 S. Lassen Street\nSusanville, CA 96114
X-ALT-DESC;FMTTYPE=text/html:Monticola Spring Yard Sale<br /><br />05/01/26 10:00 AM PST - 05/02/26 03:00 PM PST<br />Description:<br />Monticola Spring Yard Sale and gift basket drawing.<br />Details:<br />Monticola Spring Yard Sale;&nbsp; &nbsp;&nbsp;&nbsp;&nbsp;Friday, May 1 from 10am -&nbsp;4pm<br />
&nbsp;&nbsp;&nbsp;&nbsp;&nbsp;&nbsp;&nbsp;&nbsp;&nbsp;&nbsp;&nbsp;&nbsp;&nbsp;&nbsp;&nbsp;&nbsp;&nbsp;&nbsp;&nbsp;&nbsp;&nbsp;&nbsp;&nbsp;&nbsp;&nbsp;&nbsp;&nbsp;&nbsp;&nbsp;&nbsp;&nbsp;&nbsp;&nbsp;&nbsp;&nbsp;&nbsp;&nbsp;&nbsp;&nbsp;&nbsp;&nbsp;&nbsp;&nbsp;&nbsp;&nbsp;&nbsp;&nbsp; &nbsp; Saturday, May 2 from 9am - 3pm<br />
A few new and many gently used items for sale.<br />
Drop off donations Tuesday, Wednesday, Thursday, April 28, 29, &amp; 30 from noon - 2pm.&nbsp; No clothes, shoes or furniture please.<br />
<br />
There will also be a drawing for a gift basket.&nbsp; Drawing will take place at closing on Saturday, and you do not need to be present to win.<br />Location:<br />Monticola Club House<br />140 S. Lassen Street<br />Susanville, CA 96114
PRIORITY:3
TRANSP:TRANSPARENT
BEGIN:VALARM
TRIGGER:-PT5M
ACTION:DISPLAY
DESCRIPTION:Reminder
END:VALARM
END:VEVENT
END:VCALENDAR
