BEGIN:VCALENDAR
VERSION:2.0
CALSCALE:GREGORIAN
METHOD:PUBLISH
PRODID://RRCC//1422707
BEGIN:VEVENT
DTSTAMP:20260420T023237
VTIMEZONE:America/Chicago
DTSTART:20260530T120000Z
DTEND:20260530T170000Z
UID:1422707
SUMMARY:Clarksville Country Club Fishing Tournament
LOCATION:, TX
DESCRIPTION:Clarksville Country Club Fishing Tournament\n\n05/30/26 07:00 AM CST\n - 05/30/26 12:00 PM CST\Description:\nThe Clarksville Country Club is hosting a fishing tournament at North Lake on May 30, 2026 from 7:00 a.m. to 12:00 p.m. \n\nEntry Fee:                                                                      Prizes:\n(2) Person Team Stringer - $50.00                                1st Place:  Trophy and 30% of Pot    \nBig Bass: $25.00                                                           2nd Place: Trophy \nSmallest Fish: Included                                                 3rd place:  Trophy                                                        \nClosest to 4 lbs: Included                                              Big Bass:   $250.00 Cash Prize\n                                                                                      \n For more information and registration: Contact the CCC at 903-427-3450.
X-ALT-DESC;FMTTYPE=text/html:Clarksville Country Club Fishing Tournament<br /><br />05/30/26 07:00 AM CST - 05/30/26 12:00 PM CST<br />Description:<br />The Clarksville Country Club is hosting a fishing tournament at North Lake on May 30, 2026 from 7:00 a.m. to 12:00 p.m.&nbsp;<br />
<br />
Entry Fee:&nbsp; &nbsp; &nbsp; &nbsp; &nbsp; &nbsp; &nbsp; &nbsp; &nbsp; &nbsp; &nbsp; &nbsp; &nbsp; &nbsp; &nbsp; &nbsp; &nbsp; &nbsp; &nbsp; &nbsp; &nbsp; &nbsp; &nbsp; &nbsp; &nbsp; &nbsp; &nbsp; &nbsp; &nbsp; &nbsp; &nbsp; &nbsp; &nbsp; &nbsp; &nbsp; Prizes:<br />
(2) Person Team Stringer - $50.00&nbsp; &nbsp; &nbsp; &nbsp; &nbsp; &nbsp; &nbsp; &nbsp; &nbsp; &nbsp; &nbsp; &nbsp; &nbsp; &nbsp; &nbsp; &nbsp; 1st Place:&nbsp; Trophy and 30% of Pot&nbsp;&nbsp; &nbsp;<br />
Big Bass: $25.00&nbsp; &nbsp; &nbsp; &nbsp; &nbsp; &nbsp; &nbsp; &nbsp; &nbsp; &nbsp; &nbsp; &nbsp; &nbsp; &nbsp; &nbsp; &nbsp; &nbsp; &nbsp; &nbsp; &nbsp; &nbsp; &nbsp; &nbsp; &nbsp; &nbsp; &nbsp; &nbsp; &nbsp; &nbsp; &nbsp;2nd Place: Trophy&nbsp;<br />
Smallest Fish: Included&nbsp; &nbsp; &nbsp; &nbsp; &nbsp; &nbsp; &nbsp; &nbsp; &nbsp; &nbsp; &nbsp; &nbsp; &nbsp; &nbsp; &nbsp; &nbsp; &nbsp; &nbsp; &nbsp; &nbsp; &nbsp; &nbsp; &nbsp; &nbsp; &nbsp;3rd place:&nbsp; Trophy&nbsp; &nbsp; &nbsp; &nbsp; &nbsp; &nbsp; &nbsp; &nbsp; &nbsp; &nbsp; &nbsp; &nbsp; &nbsp; &nbsp; &nbsp; &nbsp; &nbsp; &nbsp; &nbsp; &nbsp; &nbsp; &nbsp; &nbsp; &nbsp; &nbsp; &nbsp; &nbsp; &nbsp;&nbsp;<br />
Closest to 4 lbs: Included&nbsp; &nbsp; &nbsp; &nbsp; &nbsp; &nbsp; &nbsp; &nbsp; &nbsp; &nbsp; &nbsp; &nbsp; &nbsp; &nbsp; &nbsp; &nbsp; &nbsp; &nbsp; &nbsp; &nbsp; &nbsp; &nbsp; &nbsp; Big Bass:&nbsp; &nbsp;$250.00 Cash Prize<br />
&nbsp; &nbsp; &nbsp; &nbsp; &nbsp; &nbsp; &nbsp; &nbsp; &nbsp; &nbsp; &nbsp; &nbsp; &nbsp; &nbsp; &nbsp; &nbsp; &nbsp; &nbsp; &nbsp; &nbsp; &nbsp; &nbsp; &nbsp; &nbsp; &nbsp; &nbsp; &nbsp; &nbsp; &nbsp; &nbsp; &nbsp; &nbsp; &nbsp; &nbsp; &nbsp; &nbsp; &nbsp; &nbsp; &nbsp; &nbsp; &nbsp; &nbsp; &nbsp;&nbsp;<br />
&nbsp;For more information and registration: Contact the CCC at 903-427-3450.
PRIORITY:3
TRANSP:TRANSPARENT
BEGIN:VALARM
TRIGGER:-PT5M
ACTION:DISPLAY
DESCRIPTION:Reminder
END:VALARM
END:VEVENT
END:VCALENDAR
