BEGIN:VCALENDAR
VERSION:2.0
CALSCALE:GREGORIAN
METHOD:PUBLISH
PRODID://BBOW//1422736
BEGIN:VEVENT
DTSTAMP:20260420T040304
VTIMEZONE:America/Chicago
DTSTART:20260412T190000Z
DTEND:20260412T204500Z
UID:1422736
SUMMARY:Broken Bow Elks Lodge #1688 Scholarship Reception
LOCATION:The Elks Lodge Room at Fiesta Brava, 625 South 10th Ave, Broken Bow , NE, 68822
DESCRIPTION:Broken Bow Elks Lodge #1688 Scholarship Reception\n\n04/12/26 02:00 PM CST\n - 04/12/26 03:45 PM CST\Description:\nThe Broken Bow Elks Lodge #1688 will be hosting their Scholarship Reception for recipients, family members and their School Counselors.  Refreshments will be served following the Scholarship presentations.  \Details:\nThe Reception begins at 2:00PM and will be held in the Elks Lodge room in the back of Fiesta Brava.  \Location:\nThe Elks Lodge Room at Fiesta Brava\n625 South 10th Ave\nBroken Bow , NE 68822
X-ALT-DESC;FMTTYPE=text/html:Broken Bow Elks Lodge #1688 Scholarship Reception<br /><br />04/12/26 02:00 PM CST - 04/12/26 03:45 PM CST<br />Description:<br />The Broken Bow Elks Lodge #1688 will be hosting their Scholarship Reception for recipients, family members and their School Counselors.&nbsp; Refreshments will be served following the Scholarship presentations.&nbsp;&nbsp;<br />Details:<br />The Reception begins at 2:00PM and will be held in the Elks Lodge room in the back of Fiesta Brava.&nbsp;&nbsp;<br />Location:<br />The Elks Lodge Room at Fiesta Brava<br />625 South 10th Ave<br />Broken Bow , NE 68822
PRIORITY:3
TRANSP:TRANSPARENT
BEGIN:VALARM
TRIGGER:-PT5M
ACTION:DISPLAY
DESCRIPTION:Reminder
END:VALARM
END:VEVENT
END:VCALENDAR
