BEGIN:VCALENDAR
VERSION:2.0
CALSCALE:GREGORIAN
METHOD:PUBLISH
PRODID://OCON//1422786
BEGIN:VEVENT
DTSTAMP:20260424T092248
VTIMEZONE:America/New_York
DTSTART:20260514T123000Z
DTEND:20260514T133000Z
UID:1422786
SUMMARY:The Morning Mix'n | Mercy Health Center
LOCATION:Mercy Health Center, 700 Oglethorpe Ave, Athens, GA, 30606
DESCRIPTION:The Morning Mix'n | Mercy Health Center\n\n05/14/26 08:30 AM EST\n - 05/14/26 09:30 AM EST\Location:\nMercy Health Center\n700 Oglethorpe Ave\nAthens, GA 30606
X-ALT-DESC;FMTTYPE=text/html:The Morning Mix'n | Mercy Health Center<br /><br />05/14/26 08:30 AM EST - 05/14/26 09:30 AM EST<br />Location:<br />Mercy Health Center<br />700 Oglethorpe Ave<br />Athens, GA 30606
PRIORITY:3
TRANSP:TRANSPARENT
BEGIN:VALARM
TRIGGER:-PT5M
ACTION:DISPLAY
DESCRIPTION:Reminder
END:VALARM
END:VEVENT
END:VCALENDAR
