BEGIN:VCALENDAR
VERSION:2.0
CALSCALE:GREGORIAN
METHOD:PUBLISH
PRODID://JCOC//1422938
BEGIN:VEVENT
DTSTAMP:20260424T094656
VTIMEZONE:America/Chicago
DTSTART:20260506T160000Z
DTEND:20260506T170000Z
UID:1422938
SUMMARY:Ribbon Cutting: Elwood Avenue Dental
LOCATION:
DESCRIPTION:Ribbon Cutting: Elwood Avenue Dental\n\n05/06/26 11:00 AM CST\n - 05/06/26 12:00 PM CST\Description:\nRibbon Cutting Celebration – Elwood Avenue Dental\n\nJoin the Jenks Chamber of Commerce as we celebrate the new location of Elwood Avenue Dental with an official ribbon cutting ceremony.\n\nDate: Wednesday, May 6\nTime: 11:00 AM\nLocation: 9232 S Elwood Ave, Jenks, OK 74037\n\nElwood Avenue Dental is committed to providing quality dental care in a welcoming environment, offering a range of services to support the health and confidence of their patients.\n\nWe invite you to attend, meet the team, and help us celebrate their new location in Jenks.\n
X-ALT-DESC;FMTTYPE=text/html:Ribbon Cutting: Elwood Avenue Dental<br /><br />05/06/26 11:00 AM CST - 05/06/26 12:00 PM CST<br />Description:<br /><p>Ribbon Cutting Celebration &ndash; Elwood Avenue Dental</p>

<p>Join the Jenks Chamber of Commerce as we celebrate the new location of Elwood Avenue Dental with an official ribbon cutting ceremony.</p>

<p>Date: Wednesday, May 6<br />
Time: 11:00 AM<br />
Location: 9232 S Elwood Ave, Jenks, OK 74037</p>

<p>Elwood Avenue Dental is committed to providing quality dental care in a welcoming environment, offering a range of services to support the health and confidence of their patients.</p>

<p>We invite you to attend, meet the team, and help us celebrate their new location in Jenks.</p>

PRIORITY:3
TRANSP:TRANSPARENT
BEGIN:VALARM
TRIGGER:-PT5M
ACTION:DISPLAY
DESCRIPTION:Reminder
END:VALARM
END:VEVENT
END:VCALENDAR
