BEGIN:VCALENDAR
VERSION:2.0
CALSCALE:GREGORIAN
METHOD:PUBLISH
PRODID://SAND//1422974
BEGIN:VEVENT
DTSTAMP:20260420T082327
VTIMEZONE:America/Los_Angeles
DTSTART:20260711T000000Z
DTEND:20260711T064500Z
UID:1422974
SUMMARY:Music Fair & Feast 2026
LOCATION:Centennial Plaza, 38348 Pioneer Boulevard, Sandy, OR, 97055
DESCRIPTION:Music Fair & Feast 2026\n\n07/10/26 05:00 PM PST\n - 07/10/26 11:45 PM PST\Description:\nThe Sandy Area Chamber of Commerce (SACC) will hold its largest fundraising event July 10-12, 2025, in Sandy’s Centennial Plaza. Over these three days, the plaza is transformed, and the Sandy Music Fair and Feast becomes a popular place for friends and family to reunite and celebrate summer. Typically, 40,000 - 50,000 people are in Sandy during this time for Sandy Mountain Days and the Sandy Mountain Festival.\n\nSACC volunteers help to produce a weekend packed full of entertainment with a Family Night (Thursday), Family Day with Kids Activities (Saturday), Family BINGO (Saturday), live music, great food, and the famous beer and wine garden all weekend. Follow our Facebook page for more event details!\n\nThank you to our wonderful sponsors who help make this event a success!\n\Location:\nCentennial Plaza\n38348 Pioneer Boulevard\nSandy, OR 97055
X-ALT-DESC;FMTTYPE=text/html:Music Fair & Feast 2026<br /><br />07/10/26 05:00 PM PST - 07/10/26 11:45 PM PST<br />Description:<br /><p><span style="display:initial"><span style="display:initial">The Sandy Area Chamber of Commerce (SACC) will hold its largest fundraising event July 10-12, 2025, in Sandy&rsquo;s Centennial Plaza. Over these three days, the plaza is transformed, and the Sandy Music Fair and Feast becomes a popular place for friends and family to reunite and celebrate summer. Typically, 40,000 - 50,000 people are in Sandy during this time for</span> </span><a href="https://lp.constantcontactpages.com/cu/ALaXbo5/MountainDays" runtime_url="https://lp.constantcontactpages.com/cu/ALaXbo5/MountainDays" style="display: initial;" target="_blank" type="url">Sandy Mountain Days</a><span style="display:initial"> <span style="display:initial">and the</span> </span><a href="https://www.sandymountainfestival.org/" runtime_url="https://www.sandymountainfestival.org/" style="display: initial;" target="_blank" type="url">Sandy Mountain Festival</a><span style="display:initial">.</span></p>

<p><span style="display:initial">SACC volunteers help to produce a weekend packed full of entertainment with a Family Night (Thursday), Family Day with Kids Activities (Saturday), Family BINGO (Saturday), live music, great food, and the famous beer and wine garden all weekend. Follow our&nbsp;</span><a href="https://www.facebook.com/musicfairandfeast/" rel="noopener" runtime_url="https://www.facebook.com/musicfairandfeast/" style="display: initial;" target="_blank">Facebook page</a><span style="display:initial">&nbsp;for more event details!</span></p>

<p><span style="display:initial">Thank you to our wonderful sponsors who help make this event a success!</span></p>
<br />Location:<br />Centennial Plaza<br />38348 Pioneer Boulevard<br />Sandy, OR 97055
PRIORITY:3
TRANSP:TRANSPARENT
BEGIN:VALARM
TRIGGER:-PT5M
ACTION:DISPLAY
DESCRIPTION:Reminder
END:VALARM
END:VEVENT
END:VCALENDAR
