BEGIN:VCALENDAR
VERSION:2.0
CALSCALE:GREGORIAN
METHOD:PUBLISH
PRODID://LASS//1423132
BEGIN:VEVENT
DTSTAMP:20260424T151719
VTIMEZONE:America/Los_Angeles
DTSTART:20261019T160000Z
DTEND:20261021T000000Z
UID:1423132
SUMMARY:25th Global Summit on Nursing Education and Practice (GSNEP 2026)
LOCATION:Los Angeles, USA, Los Angeles, USA, Los Angeles, CA, 90001
DESCRIPTION:25th Global Summit on Nursing Education and Practice (GSNEP 2026)\n\n10/19/26 09:00 AM PST\n - 10/20/26 05:00 PM PST\Description:\nIt is with immense enthusiasm that we invite you to join the 25th Global Summit on Nursing Education and Practice (GSNEP 2026) - a landmark event uniting visionary nursing professionals, educators, researchers, policymakers and healthcare leaders from across the globe.\n\nSet to take place October 19–20, 2026 in Los Angeles, USA and virtually worldwide, GSNEP 2026 serves as a vibrant platform for innovation, collaboration and transformation in nursing and healthcare education.\n\nParticipants will be awarded both CE Credits (accredited by the California Board of Registered Nursing) and CPD Credits. \n\nUnder the compelling theme, 'Bridging Education and Practice: Advancing Excellence in Nursing,' this summit will explore how education and clinical expertise can converge to redefine the standards of modern nursing. Through the exchange of ideas, groundbreaking research and practical strategies, GSNEP 2026 aims to strengthen the global nursing workforce and inspire meaningful, measurable change in patient care.\n\nMore than a conference, GSNEP 2026 is a movement - a space where ideas become initiatives, knowledge becomes impact and collaboration shapes the future of nursing. Join us in driving excellence, advancing leadership and celebrating the shared mission of improving health outcomes worldwide.\Details:\nCheck out the detailed prices at registration page.\Location:\nLos Angeles, USA\nLos Angeles, USA\nLos Angeles, CA 90001
X-ALT-DESC;FMTTYPE=text/html:25th Global Summit on Nursing Education and Practice (GSNEP 2026)<br /><br />10/19/26 09:00 AM PST - 10/20/26 05:00 PM PST<br />Description:<br />It is with immense enthusiasm that we invite you to join the 25th Global Summit on Nursing Education and Practice (GSNEP 2026) - a landmark event uniting visionary nursing professionals, educators, researchers, policymakers and healthcare leaders from across the globe.<br />
<br />
Set to take place October 19&ndash;20, 2026 in Los Angeles, USA and virtually worldwide, GSNEP 2026 serves as a vibrant platform for innovation, collaboration and transformation in nursing and healthcare education.<br />
<br />
<strong>Participants will be awarded both CE Credits (accredited by the California Board of Registered Nursing) and CPD Credits.&nbsp;</strong><br />
<br />
Under the compelling theme, 'Bridging Education and Practice: Advancing Excellence in Nursing,' this summit will explore how education and clinical expertise can converge to redefine the standards of modern nursing. Through the exchange of ideas, groundbreaking research and practical strategies, GSNEP 2026 aims to strengthen the global nursing workforce and inspire meaningful, measurable change in patient care.<br />
<br />
More than a conference, GSNEP 2026 is a movement - a space where ideas become initiatives, knowledge becomes impact and collaboration shapes the future of nursing. Join us in driving excellence, advancing leadership and celebrating the shared mission of improving health outcomes worldwide.<br />Details:<br />Check out the detailed prices at registration page.<br />Location:<br />Los Angeles, USA<br />Los Angeles, USA<br />Los Angeles, CA 90001
PRIORITY:3
TRANSP:TRANSPARENT
BEGIN:VALARM
TRIGGER:-PT5M
ACTION:DISPLAY
DESCRIPTION:Reminder
END:VALARM
END:VEVENT
END:VCALENDAR
