BEGIN:VCALENDAR
VERSION:2.0
CALSCALE:GREGORIAN
METHOD:PUBLISH
PRODID://CCOR//1423214
BEGIN:VEVENT
DTSTAMP:20260424T094137
VTIMEZONE:America/Chicago
DTSTART:20260414T210000Z
DTEND:20260414T223000Z
UID:1423214
SUMMARY:The J â€“ Staenberg Networking Event
LOCATION:The J â€“ Staenberg Family Complex in Creve Coeur, 2 Millstone Campus Drive , St. Louis, MO, 63146
DESCRIPTION:The J â€“ Staenberg Networking Event\n\n04/14/26 04:00 PM CST\n - 04/14/26 05:30 PM CST\Description:\nFrom the Kitchen to the Corner Office\nA conversation with four of St. Louis'\nleading culinary entrepreneurs\nLocation:  The J – Staenberg Family Complex in Creve Coeur\nApril 14th, 4:00 - 5:30 p.m.\nRSVP TODAY\n\Location:\nThe J â€“ Staenberg Family Complex in Creve Coeur\n2 Millstone Campus Drive \nSt. Louis, MO 63146
X-ALT-DESC;FMTTYPE=text/html:The J â€“ Staenberg Networking Event<br /><br />04/14/26 04:00 PM CST - 04/14/26 05:30 PM CST<br />Description:<br /><div style="text-align: center;"><span style="font-size:16px">From the Kitchen to the Corner Office<br />
A conversation with four of St. Louis'<br />
leading culinary entrepreneurs<br />
Location:&nbsp; The J &ndash; Staenberg Family Complex in Creve Coeur<br />
April 14th, 4:00 - 5:30 p.m.</span><br />
<strong style="font-size:16px"><a href="https://jccstl.com/event/from-kitchen-to-corner-office-a-j-staenberg-network-event-for-business-professionals/?utm_source=newsletter&amp;utm_medium=email&amp;utm_content=RSVP%20Today&amp;utm_campaign=JStaenbergNetworkKitchenEvent04142026Email"><span style="color:#0000FF">RSVP TODAY</span></a></strong></div>
<br />Location:<br />The J â€“ Staenberg Family Complex in Creve Coeur<br />2 Millstone Campus Drive <br />St. Louis, MO 63146
PRIORITY:3
TRANSP:TRANSPARENT
BEGIN:VALARM
TRIGGER:-PT5M
ACTION:DISPLAY
DESCRIPTION:Reminder
END:VALARM
END:VEVENT
END:VCALENDAR
