BEGIN:VCALENDAR
VERSION:2.0
CALSCALE:GREGORIAN
METHOD:PUBLISH
PRODID://JCOC//1424259
BEGIN:VEVENT
DTSTAMP:20260424T110155
VTIMEZONE:America/Chicago
DTSTART:20260418T150000Z
DTEND:20260418T200000Z
UID:1424259
SUMMARY:Reduce Reuse & Retail
LOCATION:Tulsa Premium Outlets, 801 E Outlet Dr, Jenks, OK, 74037
DESCRIPTION:Reduce Reuse & Retail\n\n04/18/26 10:00 AM CST\n - 04/18/26 03:00 PM CST\Description:\nSaturday, April 18\n10am-3pm\nCenter Court\n\nJoin us for a recycling collection event and conveniently drop off your recyclables. The first 200 shoppers to drop their eligible recyclables will receive a $10 Perfect Gift Visa Gift Card, while supplies last. Sponsored by American Waste Control.\n\n \Details:\nThis is a free, public event.\Location:\nTulsa Premium Outlets\n801 E Outlet Dr\nJenks, OK 74037
X-ALT-DESC;FMTTYPE=text/html:Reduce Reuse & Retail<br /><br />04/18/26 10:00 AM CST - 04/18/26 03:00 PM CST<br />Description:<br />Saturday, April 18<br />
10am-3pm<br />
Center Court<br />
<br />
Join us for a recycling collection event and conveniently drop off your recyclables. The first 200 shoppers to drop their eligible recyclables will receive a $10 Perfect Gift Visa Gift Card, while supplies last. Sponsored by American Waste Control.<br />
<br />
&nbsp;<br />Details:<br />This is a free, public event.<br />Location:<br />Tulsa Premium Outlets<br />801 E Outlet Dr<br />Jenks, OK 74037
PRIORITY:3
TRANSP:TRANSPARENT
BEGIN:VALARM
TRIGGER:-PT5M
ACTION:DISPLAY
DESCRIPTION:Reminder
END:VALARM
END:VEVENT
END:VCALENDAR
