BEGIN:VCALENDAR
VERSION:2.0
CALSCALE:GREGORIAN
METHOD:PUBLISH
PRODID://SCED//1424393
BEGIN:VEVENT
DTSTAMP:20260422T041606
VTIMEZONE:America/Chicago
DTSTART:20260604T050000Z
DTEND:20260604T050000Z
UID:1424393
SUMMARY:Ambuc Men's Meeting
LOCATION:Sullivan Ambuc Hall
DESCRIPTION:Ambuc Men's Meeting\n\n06/04/26 12:00 AM CST\n - 06/04/26 12:00 AM CST\Description:\nAmbuc Mens Meeting\Location:\nSullivan Ambuc Hall\n\n,
X-ALT-DESC;FMTTYPE=text/html:Ambuc Men's Meeting<br /><br />06/04/26 12:00 AM CST - 06/04/26 12:00 AM CST<br />Description:<br />Ambuc Mens Meeting<br />Location:<br />Sullivan Ambuc Hall<br /><br />,  
PRIORITY:3
TRANSP:TRANSPARENT
BEGIN:VALARM
TRIGGER:-PT5M
ACTION:DISPLAY
DESCRIPTION:Reminder
END:VALARM
END:VEVENT
END:VCALENDAR
