BEGIN:VCALENDAR
VERSION:2.0
CALSCALE:GREGORIAN
METHOD:PUBLISH
PRODID://OCON//1424438
BEGIN:VEVENT
DTSTAMP:20260424T092248
VTIMEZONE:America/New_York
DTSTART:20260427T200000Z
DTEND:20260427T210000Z
UID:1424438
SUMMARY:Ribbon Cutting | Oconee Weight and Wellness
LOCATION:Oconee Weight and Wellness, 2180 Oconee Connector, Athens, GA, 30606
DESCRIPTION:Ribbon Cutting | Oconee Weight and Wellness\n\n04/27/26 04:00 PM EST\n - 04/27/26 05:00 PM EST\Location:\nOconee Weight and Wellness\n2180 Oconee Connector\nAthens, GA 30606
X-ALT-DESC;FMTTYPE=text/html:Ribbon Cutting | Oconee Weight and Wellness<br /><br />04/27/26 04:00 PM EST - 04/27/26 05:00 PM EST<br />Location:<br />Oconee Weight and Wellness<br />2180 Oconee Connector<br />Athens, GA 30606
PRIORITY:3
TRANSP:TRANSPARENT
BEGIN:VALARM
TRIGGER:-PT5M
ACTION:DISPLAY
DESCRIPTION:Reminder
END:VALARM
END:VEVENT
END:VCALENDAR
