BEGIN:VCALENDAR
VERSION:2.0
CALSCALE:GREGORIAN
METHOD:PUBLISH
PRODID://OCON//1424552
BEGIN:VEVENT
DTSTAMP:20260424T142110
VTIMEZONE:America/New_York
DTSTART:20260819T150000Z
DTEND:20260819T170000Z
UID:1424552
SUMMARY:Women in Business Quarterly Luncheon
LOCATION:
DESCRIPTION:Women in Business Quarterly Luncheon\n\n08/19/26 11:00 AM EST\n - 08/19/26 01:00 PM EST\Description:\nJoin us for our second Women in Business Quarterly Luncheon of the year, "Garden Party" style!\n\nVenue: Oconee State Bank\nSpeaker: Brookes Vaughan with The Womens Health Company\nEvent Sponsor: Global Escapes\nDecor Sponsor: Fox's Pizza Den\nLunch: \n \n\nAll ticket sales goes to our Woman in Business scholarship. That scholarship is used to go to a woman in our community that has a need! \n\nRegistration Required - stay tuned for registration link in July!\n\nIf event becomes sold out and you would like to be added to the waitlist, please email Caroline Middlebrooks at cmiddlebrooks@oconeechamber.org!
X-ALT-DESC;FMTTYPE=text/html:Women in Business Quarterly Luncheon<br /><br />08/19/26 11:00 AM EST - 08/19/26 01:00 PM EST<br />Description:<br />Join us for our second Women in Business Quarterly Luncheon of the year, &quot;Garden Party&quot; style!<br />
<br />
Venue: Oconee State Bank<br />
Speaker: Brookes Vaughan&nbsp;with The Womens Health Company<br />
Event Sponsor: Global Escapes<br />
Decor Sponsor: Fox's Pizza Den<br />
Lunch:&nbsp;<br />
<em>&nbsp;</em><br />
<br />
All ticket sales goes to our Woman in Business scholarship. That scholarship is used to go to a woman in our community that has a need!&nbsp;<br />
<br />
<strong>Registration Required - stay tuned for registration link in July!</strong><br />
<br />
If event becomes sold out and you would like to be added to the waitlist, please email Caroline Middlebrooks at cmiddlebrooks@oconeechamber.org!
PRIORITY:3
TRANSP:TRANSPARENT
BEGIN:VALARM
TRIGGER:-PT5M
ACTION:DISPLAY
DESCRIPTION:Reminder
END:VALARM
END:VEVENT
END:VCALENDAR
