BEGIN:VCALENDAR
VERSION:2.0
CALSCALE:GREGORIAN
METHOD:PUBLISH
PRODID://LAGC//1424788
BEGIN:VEVENT
DTSTAMP:20260421T054720
VTIMEZONE:America/New_York
DTSTART:20260530T150000Z
DTEND:20260531T003000Z
UID:1424788
SUMMARY:Tex Flex Disc Golf Tournament
LOCATION:Delt Church Park, 6455 S 200 W, Wolcottville, IN, 46795
DESCRIPTION:Tex Flex Disc Golf Tournament\n\n05/30/26 11:00 AM EST\n - 05/30/26 08:30 PM EST\Description:\nDisc Golf Tournament\nPDGA sanctioned\nAmateurs and Pros welcome\n \Details:\n$20 entry fee for PDGA members\n$35 entry fee for non-PDGA members\nAdditional contest fees may apply\nFly Mart will be open for disc golf item purchases.\n\nAll information and registration available in website link.\nContact 574-538-7972 with any questions.\nHost: Maple City Disc Golf\n \Location:\nDelt Church Park\n6455 S 200 W\nWolcottville, IN 46795
X-ALT-DESC;FMTTYPE=text/html:Tex Flex Disc Golf Tournament<br /><br />05/30/26 11:00 AM EST - 05/30/26 08:30 PM EST<br />Description:<br />Disc Golf Tournament<br />
PDGA sanctioned<br />
Amateurs and Pros welcome<br />
&nbsp;<br />Details:<br />$20 entry fee for PDGA members<br />
$35 entry fee for non-PDGA members<br />
Additional contest fees may apply<br />
Fly Mart will be open for disc golf item purchases.<br />
<br />
All information and registration available in website link.<br />
Contact 574-538-7972 with any questions.<br />
Host: Maple City Disc Golf<br />
&nbsp;<br />Location:<br />Delt Church Park<br />6455 S 200 W<br />Wolcottville, IN 46795
PRIORITY:3
TRANSP:TRANSPARENT
BEGIN:VALARM
TRIGGER:-PT5M
ACTION:DISPLAY
DESCRIPTION:Reminder
END:VALARM
END:VEVENT
END:VCALENDAR
