BEGIN:VCALENDAR
VERSION:2.0
CALSCALE:GREGORIAN
METHOD:PUBLISH
PRODID://JCOC//1424888
BEGIN:VEVENT
DTSTAMP:20260424T112602
VTIMEZONE:America/Chicago
DTSTART:20260423T210000Z
DTEND:20260423T230000Z
UID:1424888
SUMMARY:Network Jenks
LOCATION:Tedford Insurance, 121 E Main St, Jenks, OK, 74037
DESCRIPTION:Network Jenks\n\n04/23/26 04:00 PM CST\n - 04/23/26 06:00 PM CST\Description:\nConnect, unwind, and grow your network at Network Jenks After Hours, a monthly Chamber event where members build relationships in a relaxed, fun setting.\n\nJoin us on the balcony at Tedford Insurance, 121 E Main St, Suite 201, Jenks, on Thursday, April 23rd, from 4–6 PM.\n\nThank you to our sponsors: Jenks Riverwalk, Tedford Insurance, and BOK Financial.\n\Location:\nTedford Insurance\n121 E Main St\nJenks, OK 74037
X-ALT-DESC;FMTTYPE=text/html:Network Jenks<br /><br />04/23/26 04:00 PM CST - 04/23/26 06:00 PM CST<br />Description:<br /><p>Connect, unwind, and grow your network at Network Jenks After Hours, a monthly Chamber event where members build relationships in a relaxed, fun setting.</p>

<p>Join us on the balcony at Tedford Insurance, 121 E Main St, Suite 201, Jenks, on Thursday, April 23rd, from 4&ndash;6 PM.</p>

<p>Thank you to our sponsors: Jenks Riverwalk, Tedford Insurance, and BOK Financial.</p>
<br />Location:<br />Tedford Insurance<br />121 E Main St<br />Jenks, OK 74037
PRIORITY:3
TRANSP:TRANSPARENT
BEGIN:VALARM
TRIGGER:-PT5M
ACTION:DISPLAY
DESCRIPTION:Reminder
END:VALARM
END:VEVENT
END:VCALENDAR
