BEGIN:VCALENDAR
VERSION:2.0
CALSCALE:GREGORIAN
METHOD:PUBLISH
PRODID://JCOC//1424946
BEGIN:VEVENT
DTSTAMP:20260424T094656
VTIMEZONE:America/Chicago
DTSTART:20260502T120000Z
DTEND:20260502T220000Z
UID:1424946
SUMMARY:Jenks Citywide Garage Sale
LOCATION:
DESCRIPTION:Jenks Citywide Garage Sale\n\n05/02/26 07:00 AM CST\n - 05/02/26 05:00 PM CST\Description:\nSet your alarms on Saturday, May 2nd to visit all the garage sales in Jenks! If you are having a sale, you may leave your garage sale location or address (or if your neighborhood is having a joint sale) in the “Discussion” section of our event page below OR you can add your garage sale to an online map! Visit https://yardsaletreasuremap.com and enter your address (optional: description of items and pictures) to be included in the map!\n\nCitizens may use the web version or download the app to post sales or find sales in their area. Anyone who accesses Yard Sale Treasure Map website or the app will be able to view any posted sales. Having issues with entering your address into the virtual map? Please email city@jenksok.org for assistance. There is no permit required to host a garage sale during the CityWide Garage Sale weekend.\n
X-ALT-DESC;FMTTYPE=text/html:Jenks Citywide Garage Sale<br /><br />05/02/26 07:00 AM CST - 05/02/26 05:00 PM CST<br />Description:<br /><p id="isPasted">Set your alarms on Saturday, May 2nd to visit all the garage sales in Jenks! If you are having a sale, you may leave your garage sale location or address (or if your neighborhood is having a joint sale) in the &ldquo;Discussion&rdquo; section of our event page below OR you can add your garage sale to an online map! Visit https://yardsaletreasuremap.com and enter your address (optional: description of items and pictures) to be included in the map!<br />
<br />
Citizens may use the web version or download the app to post sales or find sales in their area. Anyone who accesses Yard Sale Treasure Map website or the app will be able to view any posted sales. Having issues with entering your address into the virtual map? Please email city@jenksok.org for assistance. There is no permit required to host a garage sale during the CityWide Garage Sale weekend.</p>

PRIORITY:3
TRANSP:TRANSPARENT
BEGIN:VALARM
TRIGGER:-PT5M
ACTION:DISPLAY
DESCRIPTION:Reminder
END:VALARM
END:VEVENT
END:VCALENDAR
