BEGIN:VCALENDAR
VERSION:2.0
CALSCALE:GREGORIAN
METHOD:PUBLISH
PRODID://JCOC//1424959
BEGIN:VEVENT
DTSTAMP:20260424T094656
VTIMEZONE:America/Chicago
DTSTART:20260519T160000Z
DTEND:20260519T170000Z
UID:1424959
SUMMARY:Ribbon Cutting: Hope Heating Cooling Plumbing & Electrical
LOCATION:,  530 W G Street, Jenks, OK, 74037
DESCRIPTION:Ribbon Cutting: Hope Heating Cooling Plumbing & Electrical\n\n05/19/26 11:00 AM CST\n - 05/19/26 12:00 PM CST\Description:\nJoin the Jenks Chamber of Commerce as we celebrate Hope Heating Cooling Plumbing and Electric with an official ribbon cutting ceremony.\n\nDate: Tuesday May 19\nTime: 11:00 AM\nLocation: 530 W G Street, Jenks, OK\n\nHope is a locally owned company dedicated to serving families with heating, cooling, plumbing, and electrical services. Their team provides maintenance, repair, and installation for a wide range of systems, with a strong commitment to quality work and giving back to the community.\n\nWe invite you to attend, meet the team, and help us welcome Hope to the Jenks community.\n\Location:\n\n 530 W G Street\nJenks, OK 74037
X-ALT-DESC;FMTTYPE=text/html:Ribbon Cutting: Hope Heating Cooling Plumbing & Electrical<br /><br />05/19/26 11:00 AM CST - 05/19/26 12:00 PM CST<br />Description:<br /><p>Join the Jenks Chamber of Commerce as we celebrate Hope Heating Cooling Plumbing and Electric with an official ribbon cutting ceremony.</p>

<p>Date: Tuesday May 19<br />
Time: 11:00 AM<br />
Location: 530 W G Street, Jenks, OK</p>

<p>Hope is a locally owned company dedicated to serving families with heating, cooling, plumbing, and electrical services. Their team provides maintenance, repair, and installation for a wide range of systems, with a strong commitment to quality work and giving back to the community.</p>

<p>We invite you to attend, meet the team, and help us welcome Hope to the Jenks community.</p>
<br />Location:<br /><br /> 530 W G Street<br />Jenks, OK 74037
PRIORITY:3
TRANSP:TRANSPARENT
BEGIN:VALARM
TRIGGER:-PT5M
ACTION:DISPLAY
DESCRIPTION:Reminder
END:VALARM
END:VEVENT
END:VCALENDAR
