BEGIN:VCALENDAR
VERSION:2.0
CALSCALE:GREGORIAN
METHOD:PUBLISH
PRODID://HAIN//1425021
BEGIN:VEVENT
DTSTAMP:20260420T040110
VTIMEZONE:America/New_York
DTSTART:20260501T190000Z
DTEND:20260501T210000Z
UID:1425021
SUMMARY:Sip, Dip & Celebrate at The Glades at ChampionsGate:  Margaritas & Salsa a Cinco Celebration
LOCATION:The Glades at ChampionsGate, 8400 ChampionsGate Blvd., Champions Gate, FL
DESCRIPTION:Sip, Dip & Celebrate at The Glades at ChampionsGate:  Margaritas & Salsa a Cinco Celebration\n\n05/01/26 03:00 PM EST\n - 05/01/26 05:00 PM EST\Details:\nSip, Dip & Celebrate at The Glades at ChampionsGate:  Margaritas & Salsa a Cinco Celebration - Friday, May 1st - 3 - 5 p.m. at The Glades at ChampionsGate, 8400 ChampionsGate Blvd., ChampionsGate, FL - Kick off your weekend early with a refreshing poolside experience designed for connection, conversation, and a little celebration.  Join us for an early Cinco de Mayo gathering where you’ll enjoy handcrafted margaritas, fresh salsa, and a relaxed atmosphere perfect for building meaningful professional relationships.  Whether you’re reconnecting with familiar faces or meeting someone new, this is an easy, enjoyable way to stay engaged in the local network.  Let the fiesta begin - RSVP Today! Call (863) 588-3242 or email CGarcia@GladesatChampionsGate.com.  Click HERE for the invitation.  \Location:\nThe Glades at ChampionsGate\n8400 ChampionsGate Blvd.\nChampions Gate, FL
X-ALT-DESC;FMTTYPE=text/html:Sip, Dip & Celebrate at The Glades at ChampionsGate:  Margaritas & Salsa a Cinco Celebration<br /><br />05/01/26 03:00 PM EST - 05/01/26 05:00 PM EST<br />Details:<br />Sip, Dip &amp; Celebrate at The Glades at ChampionsGate: &nbsp;Margaritas &amp; Salsa a Cinco Celebration - Friday, May 1st - 3 - 5 p.m. at The Glades at ChampionsGate, 8400 ChampionsGate Blvd., ChampionsGate, FL - Kick off your weekend early with a&nbsp;refreshing poolside experience designed&nbsp;for connection, conversation, and a little&nbsp;celebration.&nbsp;&nbsp;Join us for an early Cinco de Mayo&nbsp;gathering where you&rsquo;ll enjoy handcrafted&nbsp;margaritas, fresh salsa, and a relaxed atmosphere perfect for building meaningful&nbsp;professional relationships.&nbsp;&nbsp;Whether you&rsquo;re reconnecting with familiar faces or meeting someone new, this is an easy, enjoyable way to stay engaged in the&nbsp;local network.&nbsp; Let the fiesta begin - RSVP Today!&nbsp;Call (863) 588-3242 or email&nbsp;CGarcia@GladesatChampionsGate.com.&nbsp; Click <a href="https://www.chamberorganizer.com/hainescitynepolkcounty/docs/OGC_Sip_Dip_Celebrate.pdf"><u><strong>HERE </strong></u></a>for the invitation.&nbsp;&nbsp;<br />Location:<br />The Glades at ChampionsGate<br />8400 ChampionsGate Blvd.<br />Champions Gate, FL 
PRIORITY:3
TRANSP:TRANSPARENT
BEGIN:VALARM
TRIGGER:-PT5M
ACTION:DISPLAY
DESCRIPTION:Reminder
END:VALARM
END:VEVENT
END:VCALENDAR
