BEGIN:VCALENDAR
VERSION:2.0
CALSCALE:GREGORIAN
METHOD:PUBLISH
PRODID://HAIN//1425222
BEGIN:VEVENT
DTSTAMP:20260420T040109
VTIMEZONE:America/New_York
DTSTART:20260408T143000Z
DTEND:20260430T220000Z
UID:1425222
SUMMARY:Get ready to splash, slide, and make memories 
LOCATION:Island H2O Water Park, 3230 Inspiration Drive, Kissimmee, FL, 34747
DESCRIPTION:Get ready to splash, slide, and make memories \n\n04/08/26 10:30 AM EST\n - 04/30/26 06:00 PM EST\Description:\nCentral Florida Grab your sunscreen… because the fun is calling! \n\nGet ready to splash, slide, and make memories at Island H2O Water Park at Margaritaville Resort Orlando in Kissimmee, Florida!\nTickets are ONLY $20 – that’s right, just $20 for an unforgettable day of water park fun! But hurry… supplies are limited. Last year we sold out before the deadline buy yours today!!\n\nEven better, $10 from every ticket purchased goes directly to Bill Sample's Sunshine Foundation Dream Village to help make dreams come true for children who have severe or profound physical/developmental/intellectual challenges or trauma from physical/sexual abuse, and whose families have limited income. \n\nGet your tickets today:\nhttps://islandh2owaterpark.com/sunshine-foundation/\nImportant Dates:\nTickets must be purchased by April 30, 2026 (WHILE SUPPLIES LAST)\nTickets must be used by May 31, 2026\nEnjoy a day of fun in the sun while supporting an amazing cause! \n \Details:\nCentral Florida Grab your sunscreen… because the fun is calling! \n\nGet ready to splash, slide, and make memories at Island H2O Water Park at Margaritaville Resort Orlando in Kissimmee, Florida!\nTickets are ONLY $20 – that’s right, just $20 for an unforgettable day of water park fun! But hurry… supplies are limited. Last year we sold out before the deadline buy yours today!!\n\nEven better, $10 from every ticket purchased goes directly to Bill Sample's Sunshine Foundation Dream Village to help make dreams come true for children who have severe or profound physical/developmental/intellectual challenges or trauma from physical/sexual abuse, and whose families have limited income. \n\nGet your tickets today:\nhttps://islandh2owaterpark.com/sunshine-foundation/\nImportant Dates:\nTickets must be purchased by April 30, 2026 (WHILE SUPPLIES LAST)\nTickets must be used by May 31, 2026\nEnjoy a day of fun in the sun while supporting an amazing cause! \n \Location:\nIsland H2O Water Park\n3230 Inspiration Drive\nKissimmee, FL 34747
X-ALT-DESC;FMTTYPE=text/html:Get ready to splash, slide, and make memories <br /><br />04/08/26 10:30 AM EST - 04/30/26 06:00 PM EST<br />Description:<br />Central Florida&nbsp;Grab your sunscreen&hellip; because the fun is calling!&nbsp;<br />
<br />
Get ready to splash, slide, and make memories at <a href="https://www.facebook.com/islandh2owaterpark?__cft__%5b0%5d=AZbDRC-9o6w_p2CyQG77_URg26cQuSV3SswX_smtUwYrUWEZp6YKKAZo5Jp6HqrGN6E6v73nLFxOGd62oBOl86KCFKZymrV8k_HyhRrglrSIdo8pHfzXNze9g9ZpoWwc86P3mEvd9Anpu6pauPicvBpOmFo5jcub9yXJ7d54E7-FtYs2nUMlHJlwScBfpFkpEkYdpmxcNGB0rIMf-yzDL7zp&amp;__tn__=-%5dK-R"><strong>Island H2O Water Park</strong></a> at Margaritaville Resort Orlando in Kissimmee, Florida!<br />
Tickets are ONLY $20 &ndash; that&rsquo;s right, just $20 for an unforgettable day of water park fun! But hurry&hellip; <u><strong>supplies are limited</strong></u>. Last year we sold out before the deadline buy yours today!!<br />
<br />
Even better, $10 from every ticket purchased goes directly to Bill Sample's <a href="https://www.facebook.com/sunfounddreamvillage?__cft__%5b0%5d=AZbDRC-9o6w_p2CyQG77_URg26cQuSV3SswX_smtUwYrUWEZp6YKKAZo5Jp6HqrGN6E6v73nLFxOGd62oBOl86KCFKZymrV8k_HyhRrglrSIdo8pHfzXNze9g9ZpoWwc86P3mEvd9Anpu6pauPicvBpOmFo5jcub9yXJ7d54E7-FtYs2nUMlHJlwScBfpFkpEkYdpmxcNGB0rIMf-yzDL7zp&amp;__tn__=-%5dK-R"><strong>Sunshine Foundation Dream Village</strong></a> to help make dreams come true for children who have severe or profound physical/developmental/intellectual challenges or trauma from physical/sexual abuse, and whose families have limited income.&nbsp;<br />
<br />
Get your tickets today:<br />
<a href="https://islandh2owaterpark.com/sunshine-foundation/?fbclid=IwZXh0bgNhZW0CMTAAYnJpZBExdG9PR3ZKaWhGRlFGTWMxZnNydGMGYXBwX2lkEDIyMjAzOTE3ODgyMDA4OTIAAR4udlK9vFFCcJfQJM-6lbkIsSfzZPIy9aviuVuDwZfrgwdcvIitKIZWVIeaXg_aem_UDx173rlgLaw6EYVeGuHPA" target="_blank"><strong>https://islandh2owaterpark.com/sunshine-foundation/</strong></a><br />
Important Dates:<br />
Tickets must be purchased by April 30, 2026 <u><strong>(WHILE SUPPLIES LAST)</strong></u><br />
Tickets must be used by May 31, 2026<br />
Enjoy a day of fun in the sun while supporting an amazing cause!&nbsp;<br />
&nbsp;<br />Details:<br />Central Florida&nbsp;Grab your sunscreen&hellip; because the fun is calling!&nbsp;<br />
<br />
Get ready to splash, slide, and make memories at <a href="https://www.facebook.com/islandh2owaterpark?__cft__%5b0%5d=AZbDRC-9o6w_p2CyQG77_URg26cQuSV3SswX_smtUwYrUWEZp6YKKAZo5Jp6HqrGN6E6v73nLFxOGd62oBOl86KCFKZymrV8k_HyhRrglrSIdo8pHfzXNze9g9ZpoWwc86P3mEvd9Anpu6pauPicvBpOmFo5jcub9yXJ7d54E7-FtYs2nUMlHJlwScBfpFkpEkYdpmxcNGB0rIMf-yzDL7zp&amp;__tn__=-%5dK-R"><strong>Island H2O Water Park</strong></a> at Margaritaville Resort Orlando in Kissimmee, Florida!<br />
Tickets are ONLY $20 &ndash; that&rsquo;s right, just $20 for an unforgettable day of water park fun! But hurry&hellip; <u><strong>supplies are limited</strong></u>. Last year we sold out before the deadline buy yours today!!<br />
<br />
Even better, $10 from every ticket purchased goes directly to Bill Sample's <a href="https://www.facebook.com/sunfounddreamvillage?__cft__%5b0%5d=AZbDRC-9o6w_p2CyQG77_URg26cQuSV3SswX_smtUwYrUWEZp6YKKAZo5Jp6HqrGN6E6v73nLFxOGd62oBOl86KCFKZymrV8k_HyhRrglrSIdo8pHfzXNze9g9ZpoWwc86P3mEvd9Anpu6pauPicvBpOmFo5jcub9yXJ7d54E7-FtYs2nUMlHJlwScBfpFkpEkYdpmxcNGB0rIMf-yzDL7zp&amp;__tn__=-%5dK-R"><strong>Sunshine Foundation Dream Village</strong></a> to help make dreams come true for children who have severe or profound physical/developmental/intellectual challenges or trauma from physical/sexual abuse, and whose families have limited income.&nbsp;<br />
<br />
Get your tickets today:<br />
<a href="https://islandh2owaterpark.com/sunshine-foundation/?fbclid=IwZXh0bgNhZW0CMTAAYnJpZBExdG9PR3ZKaWhGRlFGTWMxZnNydGMGYXBwX2lkEDIyMjAzOTE3ODgyMDA4OTIAAR4udlK9vFFCcJfQJM-6lbkIsSfzZPIy9aviuVuDwZfrgwdcvIitKIZWVIeaXg_aem_UDx173rlgLaw6EYVeGuHPA" target="_blank"><strong>https://islandh2owaterpark.com/sunshine-foundation/</strong></a><br />
Important Dates:<br />
Tickets must be purchased by April 30, 2026 <u><strong>(WHILE SUPPLIES LAST)</strong></u><br />
Tickets must be used by May 31, 2026<br />
Enjoy a day of fun in the sun while supporting an amazing cause!&nbsp;<br />
&nbsp;<br />Location:<br />Island H2O Water Park<br />3230 Inspiration Drive<br />Kissimmee, FL 34747
PRIORITY:3
TRANSP:TRANSPARENT
BEGIN:VALARM
TRIGGER:-PT5M
ACTION:DISPLAY
DESCRIPTION:Reminder
END:VALARM
END:VEVENT
END:VCALENDAR
