BEGIN:VCALENDAR
VERSION:2.0
CALSCALE:GREGORIAN
METHOD:PUBLISH
PRODID://JCOC//1425281
BEGIN:VEVENT
DTSTAMP:20260424T094656
VTIMEZONE:America/Chicago
DTSTART:20260428T220000Z
DTEND:20260429T020000Z
UID:1425281
SUMMARY:Deep Cuts Pint Night at Andolini's
LOCATION:Andoliniâ€™s Pizzeria, 500 Riverwalk Terrace,, Jenks, OK, 74037
DESCRIPTION:Deep Cuts Pint Night at Andolini's\n\n04/28/26 05:00 PM CST\n - 04/28/26 09:00 PM CST\Description:\nEvery Tuesday is Deep Cuts at Andolini’s. A rare beer paired with a special slice. All locations. You keep the glass (until we run out!). Starts at 5 p.m. every single Tuesday.\n\nBonus: we offer the pint night off-menu pizza only for the week it’s featured. Available to order by the slice during lunch and any time of day by the 20″ pie!\n\Location:\nAndoliniâ€™s Pizzeria\n500 Riverwalk Terrace,\nJenks, OK 74037
X-ALT-DESC;FMTTYPE=text/html:Deep Cuts Pint Night at Andolini's<br /><br />04/28/26 05:00 PM CST - 04/28/26 09:00 PM CST<br />Description:<br /><p>Every Tuesday is Deep Cuts at Andolini&rsquo;s. A rare beer paired with a special slice. All locations. You keep the glass (until we run out!). Starts at 5 p.m. every single Tuesday.</p>

<p>Bonus: we offer the pint night off-menu pizza only for the week it&rsquo;s featured. Available to order by the slice during lunch and any time of day by the 20&Prime; pie!</p>
<br />Location:<br />Andoliniâ€™s Pizzeria<br />500 Riverwalk Terrace,<br />Jenks, OK 74037
PRIORITY:3
TRANSP:TRANSPARENT
BEGIN:VALARM
TRIGGER:-PT5M
ACTION:DISPLAY
DESCRIPTION:Reminder
END:VALARM
END:VEVENT
END:VCALENDAR
