BEGIN:VCALENDAR
VERSION:2.0
CALSCALE:GREGORIAN
METHOD:PUBLISH
PRODID://JCOC//1425296
BEGIN:VEVENT
DTSTAMP:20260424T122942
VTIMEZONE:America/Chicago
DTSTART:20260418T153000Z
DTEND:20260418T183000Z
UID:1425296
SUMMARY:Dana and the Drive FREE Concert
LOCATION:Suite Shots, 600 Riverwalk Terrace, Jenks, OK, 74037
DESCRIPTION:Dana and the Drive FREE Concert\n\n04/18/26 10:30 AM CST\n - 04/18/26 01:30 PM CST\Description:\nDana and the Drive will be the featured band at the 2nd Annual Car, Truck & Motorcycle show on April 18, starting at 10:30 a.m.\nDana and the Drive are Tulsa’s go-to cover band, playing your favorite hits from the 70’s and 80’s that get everyone singing along. They are family-friendly, high energy, with a feel-good set list from the first song to the last!\Location:\nSuite Shots\n600 Riverwalk Terrace\nJenks, OK 74037
X-ALT-DESC;FMTTYPE=text/html:Dana and the Drive FREE Concert<br /><br />04/18/26 10:30 AM CST - 04/18/26 01:30 PM CST<br />Description:<br />Dana and the Drive will be the featured band at the 2nd Annual Car, Truck &amp; Motorcycle show on April 18, starting at 10:30 a.m.<br />
Dana and the Drive are Tulsa&rsquo;s go-to cover band, playing your favorite hits from the 70&rsquo;s and 80&rsquo;s that get everyone singing along. They are family-friendly, high energy, with a feel-good set list from the first song to the last!<br />Location:<br />Suite Shots<br />600 Riverwalk Terrace<br />Jenks, OK 74037
PRIORITY:3
TRANSP:TRANSPARENT
BEGIN:VALARM
TRIGGER:-PT5M
ACTION:DISPLAY
DESCRIPTION:Reminder
END:VALARM
END:VEVENT
END:VCALENDAR
