BEGIN:VCALENDAR
VERSION:2.0
CALSCALE:GREGORIAN
METHOD:PUBLISH
PRODID://JCOC//1425303
BEGIN:VEVENT
DTSTAMP:20260424T122942
VTIMEZONE:America/Chicago
DTSTART:20260418T140000Z
DTEND:20260418T200000Z
UID:1425303
SUMMARY:Jenks Riverwalk Car, Truck, and Motorcycle Show: Chrome on the River
LOCATION:Suite Shots, 600 Riverwalk Terrace, Jenks, OK, 74037
DESCRIPTION:Jenks Riverwalk Car, Truck, and Motorcycle Show: Chrome on the River\n\n04/18/26 09:00 AM CST\n - 04/18/26 03:00 PM CST\Description:\n2nd Annual Jenks RiverWalk Car, Truck & Motorcycle Show — Hosted with Suite Shots Golf\n\nChrome on the River — The big car show returns. Suite Shots hosts registration & awards.Join us Saturday, April 18th, 2026 at one of Oklahoma’s premier riverfront destinations for a full-throttle celebration of classic cars, custom rides, and motorcycle culture. Hosted at Suite Shots and backed by the RiverWalk and Onefire Holding Co., this event will feature hundreds of vehicles, custom trophies, live entertainment, and family-friendly fun — all just steps away from great food, shopping, and the Arkansas River.\n\nDon’t miss your chance to be part of this high-octane community event.\n\nLearn more and register your vehicle.\n\nApply to be a vendor.\n\Location:\nSuite Shots\n600 Riverwalk Terrace\nJenks, OK 74037
X-ALT-DESC;FMTTYPE=text/html:Jenks Riverwalk Car, Truck, and Motorcycle Show: Chrome on the River<br /><br />04/18/26 09:00 AM CST - 04/18/26 03:00 PM CST<br />Description:<br /><h3>2nd Annual Jenks RiverWalk Car, Truck &amp; Motorcycle Show &mdash; Hosted with&nbsp;<a href="https://suiteshotsjenks.com/">Suite Shots Golf</a></h3>

<p><strong>Chrome on the River &mdash; The big car show returns.&nbsp;<a href="https://suiteshotsjenks.com/">Suite Shots</a>&nbsp;hosts registration &amp; awards.</strong>Join us&nbsp;<strong>Saturday, April 18th, 2026</strong>&nbsp;at one of Oklahoma&rsquo;s premier riverfront destinations for a full-throttle celebration of classic cars, custom rides, and motorcycle culture. Hosted at&nbsp;<strong>Suite Shots</strong>&nbsp;and backed by the&nbsp;<strong>RiverWalk</strong>&nbsp;and&nbsp;<strong>Onefire Holding Co.</strong>, this event will feature&nbsp;<strong>hundreds of vehicles</strong>,&nbsp;<strong>custom trophies</strong>,&nbsp;<strong>live entertainment</strong>, and&nbsp;<strong>family-friendly fun</strong>&nbsp;&mdash; all just steps away from great food, shopping, and the Arkansas River.</p>

<p>Don&rsquo;t miss your chance to be part of this high-octane community event.</p>

<p><a href="https://riverwalkcarshow.com/registration/">Learn more and register your vehicle.</a></p>

<p><a href="https://riverwalk.wufoo.com/forms/riverwalk-car-show-vendor-application/">Apply to be a vendor.</a></p>
<br />Location:<br />Suite Shots<br />600 Riverwalk Terrace<br />Jenks, OK 74037
PRIORITY:3
TRANSP:TRANSPARENT
BEGIN:VALARM
TRIGGER:-PT5M
ACTION:DISPLAY
DESCRIPTION:Reminder
END:VALARM
END:VEVENT
END:VCALENDAR
