BEGIN:VCALENDAR
VERSION:2.0
CALSCALE:GREGORIAN
METHOD:PUBLISH
PRODID://JCOC//1425306
BEGIN:VEVENT
DTSTAMP:20260424T111056
VTIMEZONE:America/Chicago
DTSTART:20260415T163000Z
DTEND:20260415T180000Z
UID:1425306
SUMMARY:Member Luncheon - April 2026
LOCATION:The Ranch, 10596 S. Elm Street, Jenks, OK, 74037
DESCRIPTION:Member Luncheon - April 2026\n\n04/15/26 11:30 AM CST\n - 04/15/26 01:00 PM CST\Description:\nJoin us for our April Luncheon featuring Lori Fullbright, award-winning investigative journalist with News On 6. With decades of experience exposing scams and fraud, Lori will share how criminals target businesses, individuals, and communities along with practical steps you can take to protect yourself. Don’t miss this opportunity to hear from one of Tulsa’s most trusted voices.\nThe event will be held at The Ranch, 10596 S Elm St. Doors open at 11:30 and the program begins at noon.\n\nSponsored by: Hope Heating, Cooling, Plumbing & Electric\n\n\nDoors Open: 11:30AM\nProgram Starts: 12:00PM\n\n\nClick to View: Liability Waiver\Location:\nThe Ranch\n10596 S. Elm Street\nJenks, OK 74037
X-ALT-DESC;FMTTYPE=text/html:Member Luncheon - April 2026<br /><br />04/15/26 11:30 AM CST - 04/15/26 01:00 PM CST<br />Description:<br />Join us for our April Luncheon featuring Lori Fullbright, award-winning investigative journalist with News On 6. With decades of experience exposing scams and fraud, Lori will share how criminals target businesses, individuals, and communities along with practical steps you can take to protect yourself. Don&rsquo;t miss this opportunity to hear from one of Tulsa&rsquo;s most trusted voices.<br />
The event will be held at The Ranch, 10596 S Elm St. Doors open at 11:30 and the program begins at noon.<br />
<br />
<strong>Sponsored by:</strong> <strong>Hope Heating, Cooling, Plumbing &amp; Electric</strong><br />
<br />
<br />
Doors Open: 11:30AM<br />
Program Starts: 12:00PM<br />
<br />
<br />
<strong>Click to View:&nbsp;<a href="https://www.dropbox.com/scl/fi/xh0okrwobjv6y4if070ca/jenks-chamber-of-commerce-liability-waiver.pdf?rlkey=wj6uvimc4q2zlk53to4b1rgxe&amp;st=72p7pdtm&amp;dl=0">Liability Waiver</a></strong><br />Location:<br />The Ranch<br />10596 S. Elm Street<br />Jenks, OK 74037
PRIORITY:3
TRANSP:TRANSPARENT
BEGIN:VALARM
TRIGGER:-PT5M
ACTION:DISPLAY
DESCRIPTION:Reminder
END:VALARM
END:VEVENT
END:VCALENDAR
