BEGIN:VCALENDAR
VERSION:2.0
CALSCALE:GREGORIAN
METHOD:PUBLISH
PRODID://OCON//1425485
BEGIN:VEVENT
DTSTAMP:20260424T105552
VTIMEZONE:America/New_York
DTSTART:20260423T143000Z
DTEND:20260423T153000Z
UID:1425485
SUMMARY:Groundbreaking | Athens Athletic Club
LOCATION:Athens Athletic Club, 1660 Plaza Parkway, Athens, GA, 30677
DESCRIPTION:Groundbreaking | Athens Athletic Club\n\n04/23/26 10:30 AM EST\n - 04/23/26 11:30 AM EST\Description:\nJoin us for an exciting Groundbreaking for Athens Athletic Club on Thursday, April 23rd at 10:30 a.m. \Location:\nAthens Athletic Club\n1660 Plaza Parkway\nAthens, GA 30677
X-ALT-DESC;FMTTYPE=text/html:Groundbreaking | Athens Athletic Club<br /><br />04/23/26 10:30 AM EST - 04/23/26 11:30 AM EST<br />Description:<br />Join us for an exciting Groundbreaking for Athens Athletic Club on Thursday, April 23rd at 10:30 a.m.&nbsp;<br />Location:<br />Athens Athletic Club<br />1660 Plaza Parkway<br />Athens, GA 30677
PRIORITY:3
TRANSP:TRANSPARENT
BEGIN:VALARM
TRIGGER:-PT5M
ACTION:DISPLAY
DESCRIPTION:Reminder
END:VALARM
END:VEVENT
END:VCALENDAR
