BEGIN:VCALENDAR
VERSION:2.0
CALSCALE:GREGORIAN
METHOD:PUBLISH
PRODID://ROFO//1425917
BEGIN:VEVENT
DTSTAMP:20260421T044241
VTIMEZONE:America/New_York
DTSTART:20260506T190000Z
DTEND:20260506T203000Z
UID:1425917
SUMMARY:Rockford Non-Profit Exchange Open House
LOCATION:Rockford Ambulance Center, 8450 Shaner Ave NE, Rockford, MI, 49341
DESCRIPTION:Rockford Non-Profit Exchange Open House\n\n05/06/26 03:00 PM EST\n - 05/06/26 04:30 PM EST\Description:\nJoin us for the Rockford Non-Profit Exchange Open House, a casual networking event designed to bring our local impact-makers together. Whether you’re part of the Rockford Chamber or the broader community, this is your chance to connect with fellow leaders and help shape a new monthly roundtable series.\n\nOur goal is to move beyond simple introductions and build a collaborative space for focused topical discussions and open peer support. Come share your vision for the Rockford non-profit landscape and help us turn shared challenges into collective solutions.\n\nPlease RSVP if you plan to attend.\Location:\nRockford Ambulance Center\n8450 Shaner Ave NE\nRockford, MI 49341
X-ALT-DESC;FMTTYPE=text/html:Rockford Non-Profit Exchange Open House<br /><br />05/06/26 03:00 PM EST - 05/06/26 04:30 PM EST<br />Description:<br />Join us for the&nbsp;<strong data-complete="true" data-processed="true" data-sfc-cb="" data-sfc-root="c" jsaction="" jscontroller="zYmgkd" jsuid="PrDZ2e_g">Rockford Non-Profit Exchange Open House</strong>, a casual networking event designed to bring our local impact-makers together. Whether you&rsquo;re part of the Rockford Chamber or the broader community, this is your chance to connect with fellow leaders and help shape a new&nbsp;<strong data-complete="true" data-processed="true" data-sfc-cb="" data-sfc-root="c" jsaction="" jscontroller="zYmgkd" jsuid="PrDZ2e_h">monthly roundtable</strong>&nbsp;series.<br />
<br />
Our goal is to move beyond simple introductions and build a collaborative space for focused topical discussions and open peer support. Come share your vision for the Rockford non-profit landscape and help us turn shared challenges into collective solutions.<br />
<br />
Please RSVP if you plan to attend.<br />Location:<br />Rockford Ambulance Center<br />8450 Shaner Ave NE<br />Rockford, MI 49341
PRIORITY:3
TRANSP:TRANSPARENT
BEGIN:VALARM
TRIGGER:-PT5M
ACTION:DISPLAY
DESCRIPTION:Reminder
END:VALARM
END:VEVENT
END:VCALENDAR
