BEGIN:VCALENDAR
VERSION:2.0
CALSCALE:GREGORIAN
METHOD:PUBLISH
PRODID://RRCC//1425972
BEGIN:VEVENT
DTSTAMP:20260420T022645
VTIMEZONE:America/Chicago
DTSTART:20260516T150000Z
DTEND:20260516T180000Z
UID:1425972
SUMMARY:Kids Safe Saturday
LOCATION:, TX
DESCRIPTION:Kids Safe Saturday\n\n05/16/26 10:00 AM CST\n - 05/16/26 01:00 PM CST\Description:\nKids Safe Saturday is on May 16, 2026 at the Red River County Fairgrounds in Clarksville, Texas from 10:00 a.m. to 1:00 p.m.. \n\nFree T-Shirts to first 100 kids\nFree hot dogs, bounce house and lots of fun and games\nThere will be a drawing every 15 minutes for toys\n\nFor more information, contact the Lennox Health Resource Center at 903-428-8500.
X-ALT-DESC;FMTTYPE=text/html:Kids Safe Saturday<br /><br />05/16/26 10:00 AM CST - 05/16/26 01:00 PM CST<br />Description:<br />Kids Safe Saturday is on May 16, 2026 at the Red River County Fairgrounds in Clarksville, Texas from 10:00 a.m. to 1:00 p.m..&nbsp;<br />
<br />
Free T-Shirts to first 100 kids<br />
Free hot dogs, bounce house and lots of fun and games<br />
There will be a drawing every 15 minutes for toys<br />
<br />
For more information, contact the Lennox Health Resource Center at 903-428-8500.
PRIORITY:3
TRANSP:TRANSPARENT
BEGIN:VALARM
TRIGGER:-PT5M
ACTION:DISPLAY
DESCRIPTION:Reminder
END:VALARM
END:VEVENT
END:VCALENDAR
