BEGIN:VCALENDAR
VERSION:2.0
CALSCALE:GREGORIAN
METHOD:PUBLISH
PRODID://WICK//1426090
BEGIN:VEVENT
DTSTAMP:20260424T102220
VTIMEZONE:America/Phoenix
DTSTART:20260529T003000Z
DTEND:20260529T020000Z
UID:1426090
SUMMARY:Business After Hours Mixer - Los Viajeros Inn
LOCATION:Los Viajeros Inn, 1000 N Tegner St , Wickenburg, AZ, 85390
DESCRIPTION:Business After Hours Mixer - Los Viajeros Inn\n\n05/28/26 05:30 PM MT\n - 05/28/26 07:00 PM MT\Description:\n\na {\n    text-decoration: none;\n    color: #464feb;\n}\ntr th, tr td {\n    border: 1px solid #e6e6e6;\n}\ntr th {\n    background-color: #f5f5f5;\n}\n\nBusiness After Hours Mixer\n\nHosted by:\nLos Viajeros Inn\n\nðŸ“ Los Viajeros Inn\n1000 N Tegner St\nWickenburg, AZ 85390\n\n\nðŸ“… May 28, 2026\nâ° 5:30 PM – 7:00 PM\n\nâœ… RSVP Today!\nðŸ’² Admission: $10.00\nðŸŽ‰ Chairman Circle: Free\n\Location:\nLos Viajeros Inn\n1000 N Tegner St \nWickenburg, AZ 85390
X-ALT-DESC;FMTTYPE=text/html:Business After Hours Mixer - Los Viajeros Inn<br /><br />05/28/26 05:30 PM MT - 05/28/26 07:00 PM MT<br />Description:<br /><meta content="text/html; charset=us-ascii" http-equiv="Content-Type" />
<style type="text/css">a {
    text-decoration: none;
    color: #464feb;
}
tr th, tr td {
    border: 1px solid #e6e6e6;
}
tr th {
    background-color: #f5f5f5;
}
</style>
<h2><strong>Business After Hours Mixer</strong></h2>

<p><strong>Hosted by:<br />
Los Viajeros Inn</strong></p>

<p>ðŸ“ <strong>Los Viajeros Inn</strong><br />
1000 N Tegner St<br />
Wickenburg, AZ 85390<br />
<br />
<br />
ðŸ“… <strong>May 28, 2026</strong><br />
â° <strong>5:30 PM &ndash; 7:00 PM</strong></p>

<p>âœ… <strong>RSVP Today!</strong><br />
ðŸ’² <strong>Admission:</strong> $10.00<br />
ðŸŽ‰ <strong>Chairman Circle:</strong> Free</p>
<br />Location:<br />Los Viajeros Inn<br />1000 N Tegner St <br />Wickenburg, AZ 85390
PRIORITY:3
TRANSP:TRANSPARENT
BEGIN:VALARM
TRIGGER:-PT5M
ACTION:DISPLAY
DESCRIPTION:Reminder
END:VALARM
END:VEVENT
END:VCALENDAR
