BEGIN:VCALENDAR
VERSION:2.0
CALSCALE:GREGORIAN
METHOD:PUBLISH
PRODID://GFCC//1426212
BEGIN:VEVENT
DTSTAMP:20260424T071254
VTIMEZONE:America/Chicago
DTSTART:20261104T180000Z
DTEND:20261104T190000Z
UID:1426212
SUMMARY:Chamber Lunch & Learn
LOCATION:Ponderosa Steakhouse, 2727 Veterans Avenue, Vandalia, IL, 62471
DESCRIPTION:Chamber Lunch & Learn\n\n11/04/26 12:00 PM CST\n - 11/04/26 01:00 PM CST\Description:\nCome the first Wednesday of every month to our Chamber Lunch & Learn at Ponderosa Steakhouse.  Show up at noon for networking and educational opportunities.  \n\nNo RSVP is needed, just show up!\Location:\nPonderosa Steakhouse\n2727 Veterans Avenue\nVandalia, IL 62471
X-ALT-DESC;FMTTYPE=text/html:Chamber Lunch & Learn<br /><br />11/04/26 12:00 PM CST - 11/04/26 01:00 PM CST<br />Description:<br />Come the first Wednesday of every month to our Chamber Lunch &amp; Learn at Ponderosa Steakhouse.&nbsp; Show up at noon for networking and educational opportunities.&nbsp;&nbsp;<br />
<br />
No RSVP is needed, just show up!<br />Location:<br />Ponderosa Steakhouse<br />2727 Veterans Avenue<br />Vandalia, IL 62471
PRIORITY:3
TRANSP:TRANSPARENT
BEGIN:VALARM
TRIGGER:-PT5M
ACTION:DISPLAY
DESCRIPTION:Reminder
END:VALARM
END:VEVENT
END:VCALENDAR
