BEGIN:VCALENDAR
VERSION:2.0
CALSCALE:GREGORIAN
METHOD:PUBLISH
PRODID://OCON//1426700
BEGIN:VEVENT
DTSTAMP:20260424T092248
VTIMEZONE:America/New_York
DTSTART:20260506T150000Z
DTEND:20260506T170000Z
UID:1426700
SUMMARY:Women in Business Quarterly Luncheon
LOCATION:
DESCRIPTION:Women in Business Quarterly Luncheon\n\n05/06/26 11:00 AM EST\n - 05/06/26 01:00 PM EST\Description:\nJoin us for our second Women in Business Quarterly Luncheon of the year, "Garden Party" style! Come dressed in your florals and pastels.\n\nVenue: The Gardens (formerly theThompson House & Garden)\nSpeaker: Chambray Tea \nEvent Sponsors: Oglesby Wealth Strategies, Arch Legacy Firm, Kellyn Bowden with Remarkable Mortgage\nDecor Sponsor: PriorityPet Urgent Care\nLunch: Up in Smoke Catering\n \n\nAll ticket sales goes to our Woman in Business scholarship. That scholarship is used to go to a woman in our community that has a need! \n\nRegistration Required - stay tuned for registration link in April!\n\nIf event becomes sold out and you would like to be added to the waitlist, please email Caroline Middlebrooks at cmiddlebrooks@oconeechamber.org!
X-ALT-DESC;FMTTYPE=text/html:Women in Business Quarterly Luncheon<br /><br />05/06/26 11:00 AM EST - 05/06/26 01:00 PM EST<br />Description:<br />Join us for our second Women in Business Quarterly Luncheon of the year, &quot;Garden Party&quot; style! Come dressed in your florals and pastels.<br />
<br />
Venue: The Gardens (formerly theThompson House &amp; Garden)<br />
Speaker: Chambray Tea&nbsp;<br />
Event Sponsors: Oglesby Wealth Strategies, Arch Legacy Firm, Kellyn Bowden with Remarkable Mortgage<br />
Decor Sponsor: PriorityPet Urgent Care<br />
Lunch: Up in Smoke Catering<br />
<em>&nbsp;</em><br />
<br />
All ticket sales goes to our Woman in Business scholarship. That scholarship is used to go to a woman in our community that has a need!&nbsp;<br />
<br />
<strong>Registration Required - stay tuned for registration link in April!</strong><br />
<br />
If event becomes sold out and you would like to be added to the waitlist, please email Caroline Middlebrooks at cmiddlebrooks@oconeechamber.org!
PRIORITY:3
TRANSP:TRANSPARENT
BEGIN:VALARM
TRIGGER:-PT5M
ACTION:DISPLAY
DESCRIPTION:Reminder
END:VALARM
END:VEVENT
END:VCALENDAR
