BEGIN:VCALENDAR
VERSION:2.0
CALSCALE:GREGORIAN
METHOD:PUBLISH
PRODID://TSCC//1426717
BEGIN:VEVENT
DTSTAMP:20260424T110617
VTIMEZONE:America/Denver
DTSTART:20260414T174500Z
DTEND:20260414T190000Z
UID:1426717
SUMMARY:April Noon Networking - Springville in Motion: Growth, Development & Opportunity Across Our Community
LOCATION:Springville Civic Center - Multipurpose Room, 110 S. Main St., Springville, UT, 84663
DESCRIPTION:April Noon Networking - Springville in Motion: Growth, Development & Opportunity Across Our Community\n\n04/14/26 11:45 AM MST\n - 04/14/26 01:00 PM MST\Description:\nYou won’t want to miss this month’s Noon Networking event!\n\nJoin us for an engaging and informative discussion on the exciting growth taking place throughout Springville. Springville City Administrator Troy Fitzgerald will provide a comprehensive overview of current and upcoming development across the community—from major projects like Springville Rising to new businesses such as Buc-ee’s and WinCo, and everything in between.\n\nThis presentation will highlight how thoughtful growth is shaping throughout Springville, strengthening our local economy, and creating new opportunities for businesses and residents alike. Attendees will gain valuable insight into how these developments are moving forward and how they connect and contribute to Springville’s continued success.\n\nA Q&A session will follow, offering an opportunity to ask questions, share perspectives, and better understand how businesses of all sizes play a vital role in the city’s future.\n\nCome be part of the conversation and see how Springville is growing—together.\n\nCome enjoy lunch, connect with fellow business owners, ask questions, and engage with the leaders driving these transformative projects. Whether you’re curious about development opportunities, downtown growth, or community planning, this event is a great chance to stay informed and involved.\n\n*We love welcoming visitors and believe our business community is strongest when everyone is involved. All are invited to attend Noon Networking and be part of the conversation.\n\nLunch is provided at no cost for Chamber members who are current on their membership dues as part of their member benefits. Guests and non-members are absolutely welcome to join us; we simply ask that they cover the cost of their lunch.\n\nIf you’re not yet a member, this is a wonderful opportunity to experience the value of the Chamber firsthand. We’d love to have you join us and become part of our growing business community.\n\Location:\nSpringville Civic Center - Multipurpose Room\n110 S. Main St.\nSpringville, UT 84663
X-ALT-DESC;FMTTYPE=text/html:April Noon Networking - Springville in Motion: Growth, Development & Opportunity Across Our Community<br /><br />04/14/26 11:45 AM MST - 04/14/26 01:00 PM MST<br />Description:<br /><h3 data-end="211" data-start="133">You won&rsquo;t want to miss this month&rsquo;s Noon Networking event!</h3>

<p data-end="803" data-start="386">Join us for an engaging and informative discussion on the exciting growth taking place throughout Springville. Springville City Administrator Troy Fitzgerald will provide a comprehensive overview of current and upcoming development across the community&mdash;from major projects like Springville Rising to new businesses such as Buc-ee&rsquo;s and WinCo, and everything in between.</p>

<p data-end="1140" data-start="805">This presentation will highlight how thoughtful growth is shaping throughout Springville, strengthening our local economy, and creating new opportunities for businesses and residents alike. Attendees will gain valuable insight into how these developments are moving forward and how they connect and contribute to Springville&rsquo;s continued success.</p>

<p data-end="1320" data-start="1142">A Q&amp;A session will follow, offering an opportunity to ask questions, share perspectives, and better understand how businesses of all sizes play a vital role in the city&rsquo;s future.</p>

<p data-end="1399" data-start="1322">Come be part of the conversation and see how Springville is growing&mdash;together.</p>

<p data-end="1434" data-start="1136"><strong data-end="1156" data-start="1136">Come enjoy lunch</strong>, connect with fellow business owners, ask questions, and engage with the leaders driving these transformative projects. Whether you&rsquo;re curious about development opportunities, downtown growth, or community planning, this event is a great chance to stay informed and involved.<br />
<br />
<em>*We love welcoming visitors and believe our business community is strongest when everyone is involved. All are invited to attend Noon Networking and be part of the conversation.</em></p>

<p data-end="497" data-start="261"><em>Lunch is provided at <strong>no cost for Chamber members who are current on their membership dues </strong>as part of their member benefits. Guests and non-members are absolutely welcome to join us; we simply ask that they cover the cost of their lunch.</em></p>

<p data-end="689" data-is-last-node="" data-is-only-node="" data-start="499"><em>If you&rsquo;re not yet a member, this is a wonderful opportunity to experience the value of the Chamber firsthand. We&rsquo;d love to have you join us and become part of our growing business community.</em></p>
<br />Location:<br />Springville Civic Center - Multipurpose Room<br />110 S. Main St.<br />Springville, UT 84663
PRIORITY:3
TRANSP:TRANSPARENT
BEGIN:VALARM
TRIGGER:-PT5M
ACTION:DISPLAY
DESCRIPTION:Reminder
END:VALARM
END:VEVENT
END:VCALENDAR
