BEGIN:VCALENDAR
VERSION:2.0
CALSCALE:GREGORIAN
METHOD:PUBLISH
PRODID://CCCC//1426922
BEGIN:VEVENT
DTSTAMP:20260424T072834
VTIMEZONE:America/Los_Angeles
DTSTART:20260502T160000Z
DTEND:20260502T190000Z
UID:1426922
SUMMARY:Garden Club of Colusa County's Annual Plant Sale
LOCATION:10th Street Pavilion, 10th and Parkhill, Colusa, CA, 95932
DESCRIPTION:Garden Club of Colusa County's Annual Plant Sale\n\n05/02/26 09:00 AM PST\n - 05/02/26 12:00 PM PST\Description:\nThe Garden Club of Colusa County will be hosting their annual fundraising plant sale and membership drive on Saturday May 2nd!\n\nThe event will be hosted at the 10th Street Pavilion from 9:00am-12:00pm and all proceeds will benefit the Garden Club's community projects throughout Colusa County!\n\nMother's Day Gifts, Indoor & Outdoor Plants, Garden Art, and more!\n\nDonations gratefully accepted!\n#ColusaPlantSale\Details:\nThe Garden Club of Colusa County will be hosting their annual fundraising plant sale and membership drive on Saturday May 2nd!\n\nThe event will be hosted at the 10th Street Pavilion from 9:00am-12:00pm and all proceeds will benefit the Garden Club's community projects throughout Colusa County!\n\nMother's Day Gifts, Indoor & Outdoor Plants, Garden Art, and more!\n\nDonations gratefully accepted!\n#ColusaPlantSale\Location:\n10th Street Pavilion\n10th and Parkhill\nColusa, CA 95932
X-ALT-DESC;FMTTYPE=text/html:Garden Club of Colusa County's Annual Plant Sale<br /><br />05/02/26 09:00 AM PST - 05/02/26 12:00 PM PST<br />Description:<br />The Garden Club of Colusa County will be hosting their annual fundraising plant sale and membership drive on Saturday May 2nd!<br />
<br />
The event will be hosted at the 10th Street Pavilion from 9:00am-12:00pm and all proceeds will benefit the Garden Club's community projects throughout Colusa County!<br />
<br />
Mother's Day Gifts, Indoor &amp; Outdoor Plants, Garden Art, and more!<br />
<br />
Donations gratefully accepted!<br />
#ColusaPlantSale<br />Details:<br />The Garden Club of Colusa County will be hosting their annual fundraising plant sale and membership drive on Saturday May 2nd!<br />
<br />
The event will be hosted at the 10th Street Pavilion from 9:00am-12:00pm and all proceeds will benefit the Garden Club's community projects throughout Colusa County!<br />
<br />
Mother's Day Gifts, Indoor &amp; Outdoor Plants, Garden Art, and more!<br />
<br />
Donations gratefully accepted!<br />
#ColusaPlantSale<br />Location:<br />10th Street Pavilion<br />10th and Parkhill<br />Colusa, CA 95932
PRIORITY:3
TRANSP:TRANSPARENT
BEGIN:VALARM
TRIGGER:-PT5M
ACTION:DISPLAY
DESCRIPTION:Reminder
END:VALARM
END:VEVENT
END:VCALENDAR
