BEGIN:VCALENDAR
VERSION:2.0
CALSCALE:GREGORIAN
METHOD:PUBLISH
PRODID://HAIN//1427031
BEGIN:VEVENT
DTSTAMP:20260420T040109
VTIMEZONE:America/New_York
DTSTART:20260502T130000Z
DTEND:20260502T170000Z
UID:1427031
SUMMARY:On Time With Care Transport 2 Year Anniversary Celebration!
LOCATION:Visit Central Florida Welcome Center, 101 Adventure Ct., Davenport, FL
DESCRIPTION:On Time With Care Transport 2 Year Anniversary Celebration!\n\n05/02/26 09:00 AM EST\n - 05/02/26 01:00 PM EST\Details:\nOn Time With Care Transport is turning TWO!  Anniversary Celebration - Saturday, May 2nd at Visit Central Florida Welcome Center, 101 Adventure Ct., Davenport, FL, 9 a.m. - 1 p.m.  - What started as a vision has grown into something truly special an amazing community… and it’s all because of YOU!  Join them as they celebrate 2 years of On Time With Care Transport and kick off an exciting summer ahead!  Anniversary Party + Summer Camp Kickoff.  Bring the whole family for a morning full of fun: Local vendors; Giveaways + raffles; Music & games; Activities for the kids;  They truly couldn’t have done this without our community and they can’t wait to celebrate with you!  Click HERE for the flyer.  \n\n \n\Location:\nVisit Central Florida Welcome Center\n101 Adventure Ct.\nDavenport, FL
X-ALT-DESC;FMTTYPE=text/html:On Time With Care Transport 2 Year Anniversary Celebration!<br /><br />05/02/26 09:00 AM EST - 05/02/26 01:00 PM EST<br />Details:<br /><p>On Time With Care Transport is turning TWO!&nbsp; Anniversary Celebration - Saturday, May 2nd at Visit Central Florida Welcome Center, 101 Adventure Ct., Davenport, FL, 9 a.m. - 1 p.m.&nbsp; - What started as a vision has grown into something truly special an amazing&nbsp;community&hellip; and it&rsquo;s all because of YOU!&nbsp;&nbsp;Join them as they celebrate 2 years of On Time With Care Transport and kick off an exciting summer ahead!&nbsp;&nbsp;Anniversary Party + Summer Camp Kickoff.&nbsp;&nbsp;Bring the whole family for a morning full of fun:&nbsp;Local vendors;&nbsp;Giveaways + raffles;&nbsp;Music &amp; games;&nbsp;Activities for the kids;&nbsp;&nbsp;They&nbsp;truly couldn&rsquo;t have done this without our community and they&nbsp;can&rsquo;t wait to celebrate with you!&nbsp; Click <a href="https://www.chamberorganizer.com/hainescitynepolkcounty/docs/Minimalist_Event_Layout_Instagram_Post-5.png"><u><strong>HERE </strong></u></a>for the flyer.&nbsp;&nbsp;</p>

<p dir="auto">&nbsp;</p>
<br />Location:<br />Visit Central Florida Welcome Center<br />101 Adventure Ct.<br />Davenport, FL 
PRIORITY:3
TRANSP:TRANSPARENT
BEGIN:VALARM
TRIGGER:-PT5M
ACTION:DISPLAY
DESCRIPTION:Reminder
END:VALARM
END:VEVENT
END:VCALENDAR
