BEGIN:VCALENDAR
VERSION:2.0
CALSCALE:GREGORIAN
METHOD:PUBLISH
PRODID://KACC//1427125
BEGIN:VEVENT
DTSTAMP:20260420T081121
VTIMEZONE:America/Chicago
DTSTART:20260512T190000Z
DTEND:20260512T200000Z
UID:1427125
SUMMARY:Infant Safe Sleep
LOCATION:Lifeline Education Building, 1515 N New Street, Kirksville, MO, 63501
DESCRIPTION:Infant Safe Sleep\n\n05/12/26 02:00 PM CST\n - 05/12/26 03:00 PM CST\Description:\nLifeline's Infant Safe Sleep Class\Details:\nLifeline's Infant Safe Sleep Class\nMay 12 2-3pm at no cost\nRegister to Attend\Location:\nLifeline Education Building\n1515 N New Street\nKirksville, MO 63501
X-ALT-DESC;FMTTYPE=text/html:Infant Safe Sleep<br /><br />05/12/26 02:00 PM CST - 05/12/26 03:00 PM CST<br />Description:<br />Lifeline's Infant Safe Sleep Class<br />Details:<br />Lifeline's Infant Safe Sleep Class<br />
May 12 2-3pm at no cost<br />
Register to Attend<br />Location:<br />Lifeline Education Building<br />1515 N New Street<br />Kirksville, MO 63501
PRIORITY:3
TRANSP:TRANSPARENT
BEGIN:VALARM
TRIGGER:-PT5M
ACTION:DISPLAY
DESCRIPTION:Reminder
END:VALARM
END:VEVENT
END:VCALENDAR
