BEGIN:VCALENDAR
VERSION:2.0
CALSCALE:GREGORIAN
METHOD:PUBLISH
PRODID://CARR//1427236
BEGIN:VEVENT
DTSTAMP:20260424T011329
VTIMEZONE:America/Chicago
DTSTART:20260807T130000Z
DTEND:20260807T140000Z
UID:1427236
SUMMARY:Chamber Coffee: St. Anthony Breastfeeding Coalition
LOCATION:St. Anthony Regional Hospital, 311 S Clark St, Carroll, IA, 51401
DESCRIPTION:Chamber Coffee: St. Anthony Breastfeeding Coalition\n\n08/07/26 08:00 AM CST\n - 08/07/26 09:00 AM CST\Description:\nPlease join us from 8-9 a.m. for Chamber Coffee and the launch of the St. Anthony Breastfeeding Coalition at St. Anthony Regional Hospital (311 S Clark St) in Carroll. Come learn about the coalition and celebrate their ribbon cutting..\Location:\nSt. Anthony Regional Hospital\n311 S Clark St\nCarroll, IA 51401
X-ALT-DESC;FMTTYPE=text/html:Chamber Coffee: St. Anthony Breastfeeding Coalition<br /><br />08/07/26 08:00 AM CST - 08/07/26 09:00 AM CST<br />Description:<br />Please join us from 8-9 a.m. for Chamber Coffee and the launch of the St. Anthony Breastfeeding Coalition at St. Anthony Regional Hospital (311 S Clark St) in Carroll. Come learn about the coalition and celebrate their ribbon cutting..<br />Location:<br />St. Anthony Regional Hospital<br />311 S Clark St<br />Carroll, IA 51401
PRIORITY:3
TRANSP:TRANSPARENT
BEGIN:VALARM
TRIGGER:-PT5M
ACTION:DISPLAY
DESCRIPTION:Reminder
END:VALARM
END:VEVENT
END:VCALENDAR
