BEGIN:VCALENDAR
VERSION:2.0
CALSCALE:GREGORIAN
METHOD:PUBLISH
PRODID://SUWA//1427309
BEGIN:VEVENT
DTSTAMP:20260424T094137
VTIMEZONE:America/New_York
DTSTART:20260430T220000Z
DTEND:20260430T233000Z
UID:1427309
SUMMARY:Beyond the Basics: Why a Simple Will Wonâ€™t Safeguard your Family Legacy in Florida
LOCATION:Suwannee River Regional Library, 1848 Ohio Avenue S, Live Oak, FL, 32064
DESCRIPTION:Beyond the Basics: Why a Simple Will Wonâ€™t Safeguard your Family Legacy in Florida\n\n04/30/26 06:00 PM EST\n - 04/30/26 07:30 PM EST\Description:\nDid you know that a simple will in Florida, without additional planning, may require a court case, cost your family attorney’s fees and aggravation, and delay the distribution of your property after you die? Join us at the Suwannee River Regional Library in Live Oak for an engaging workshop, as we discuss:\n\n	the true cost of a simple will to your descendants; \n	the pitfalls of transferring your property to your loved ones during your lifetime; \n	the consequences of your spouse remarrying after your death;\n	how the surviving spouse in a blended family situation may become unintentionally disinherited; \n	how you can plan for your mental and physical incapacity; \n	and many more issues that you may not have considered when thinking about your end-of-life plan.\n\n\Details:\nNote: This event is free, but seating is limited. Please RSVP to reserve your seat. Thank you!\nPlease RSVP by emailing amelia@morgangetzan.com or calling us at (386) 755-1977.\n \Location:\nSuwannee River Regional Library\n1848 Ohio Avenue S\nLive Oak, FL 32064
X-ALT-DESC;FMTTYPE=text/html:Beyond the Basics: Why a Simple Will Wonâ€™t Safeguard your Family Legacy in Florida<br /><br />04/30/26 06:00 PM EST - 04/30/26 07:30 PM EST<br />Description:<br />Did you know that a simple will in Florida, without additional planning, may require a court case, cost your family attorney&rsquo;s fees and aggravation, and delay the distribution of your property after you die? Join us at the Suwannee River Regional Library in Live Oak for an engaging workshop, as we discuss:
<ul>
	<li>the true cost of a simple will to your descendants;&nbsp;</li>
	<li>the pitfalls of transferring your property to your loved ones during your lifetime;&nbsp;</li>
	<li>the consequences of your spouse remarrying after your death;</li>
	<li>how the surviving spouse in a blended family situation may become unintentionally disinherited;&nbsp;</li>
	<li>how you can plan for your mental and physical incapacity;&nbsp;</li>
	<li>and many more issues that you may not have considered when thinking about your end-of-life plan.</li>
</ul>
<br />Details:<br />Note: This event is free, but seating is limited. Please RSVP to reserve your seat. Thank you!<br />
Please RSVP by emailing <a href="mailto:amelia@morgangetzan.com">amelia@morgangetzan.com</a> or calling us at (386) 755-1977.<br />
&nbsp;<br />Location:<br />Suwannee River Regional Library<br />1848 Ohio Avenue S<br />Live Oak, FL 32064
PRIORITY:3
TRANSP:TRANSPARENT
BEGIN:VALARM
TRIGGER:-PT5M
ACTION:DISPLAY
DESCRIPTION:Reminder
END:VALARM
END:VEVENT
END:VCALENDAR
